BEGIN:VCALENDAR
VERSION:2.0
PRODID:-//Roseburg Area Chamber - ECPv6.15.20//NONSGML v1.0//EN
CALSCALE:GREGORIAN
METHOD:PUBLISH
X-ORIGINAL-URL:https://roseburgchamber.com
X-WR-CALDESC:Events for Roseburg Area Chamber
REFRESH-INTERVAL;VALUE=DURATION:PT1H
X-Robots-Tag:noindex
X-PUBLISHED-TTL:PT1H
BEGIN:VTIMEZONE
TZID:America/Los_Angeles
BEGIN:DAYLIGHT
TZOFFSETFROM:-0800
TZOFFSETTO:-0700
TZNAME:PDT
DTSTART:20180311T100000
END:DAYLIGHT
BEGIN:STANDARD
TZOFFSETFROM:-0700
TZOFFSETTO:-0800
TZNAME:PST
DTSTART:20181104T090000
END:STANDARD
BEGIN:DAYLIGHT
TZOFFSETFROM:-0800
TZOFFSETTO:-0700
TZNAME:PDT
DTSTART:20190310T100000
END:DAYLIGHT
BEGIN:STANDARD
TZOFFSETFROM:-0700
TZOFFSETTO:-0800
TZNAME:PST
DTSTART:20191103T090000
END:STANDARD
BEGIN:DAYLIGHT
TZOFFSETFROM:-0800
TZOFFSETTO:-0700
TZNAME:PDT
DTSTART:20200308T100000
END:DAYLIGHT
BEGIN:STANDARD
TZOFFSETFROM:-0700
TZOFFSETTO:-0800
TZNAME:PST
DTSTART:20201101T090000
END:STANDARD
END:VTIMEZONE
BEGIN:VEVENT
DTSTART;TZID=America/Los_Angeles:20191025T170000
DTEND;TZID=America/Los_Angeles:20191026T200000
DTSTAMP:20260421T081341
CREATED:20191015T212704Z
LAST-MODIFIED:20191015T212704Z
UID:7397-1572022800-1572120000@roseburgchamber.com
SUMMARY:Zoobilee
DESCRIPTION:
URL:https://roseburgchamber.com/event/zoobilee/
LOCATION:Wildlife Safari\, 1790 Safari Rd.\, Winston\, OR\, 97496\, United States
CATEGORIES:Visitor Events
GEO:43.1408674;-123.4274526
X-APPLE-STRUCTURED-LOCATION;VALUE=URI;X-ADDRESS=Wildlife Safari 1790 Safari Rd. Winston OR 97496 United States;X-APPLE-RADIUS=500;X-TITLE=1790 Safari Rd.:geo:-123.4274526,43.1408674
END:VEVENT
END:VCALENDAR