BEGIN:VCALENDAR
VERSION:2.0
PRODID:-//Roseburg Area Chamber - ECPv6.15.20//NONSGML v1.0//EN
CALSCALE:GREGORIAN
METHOD:PUBLISH
X-ORIGINAL-URL:https://roseburgchamber.com
X-WR-CALDESC:Events for Roseburg Area Chamber
REFRESH-INTERVAL;VALUE=DURATION:PT1H
X-Robots-Tag:noindex
X-PUBLISHED-TTL:PT1H
BEGIN:VTIMEZONE
TZID:America/Los_Angeles
BEGIN:DAYLIGHT
TZOFFSETFROM:-0800
TZOFFSETTO:-0700
TZNAME:PDT
DTSTART:20200308T100000
END:DAYLIGHT
BEGIN:STANDARD
TZOFFSETFROM:-0700
TZOFFSETTO:-0800
TZNAME:PST
DTSTART:20201101T090000
END:STANDARD
BEGIN:DAYLIGHT
TZOFFSETFROM:-0800
TZOFFSETTO:-0700
TZNAME:PDT
DTSTART:20210314T100000
END:DAYLIGHT
BEGIN:STANDARD
TZOFFSETFROM:-0700
TZOFFSETTO:-0800
TZNAME:PST
DTSTART:20211107T090000
END:STANDARD
BEGIN:DAYLIGHT
TZOFFSETFROM:-0800
TZOFFSETTO:-0700
TZNAME:PDT
DTSTART:20220313T100000
END:DAYLIGHT
BEGIN:STANDARD
TZOFFSETFROM:-0700
TZOFFSETTO:-0800
TZNAME:PST
DTSTART:20221106T090000
END:STANDARD
BEGIN:DAYLIGHT
TZOFFSETFROM:-0800
TZOFFSETTO:-0700
TZNAME:PDT
DTSTART:20230312T100000
END:DAYLIGHT
BEGIN:STANDARD
TZOFFSETFROM:-0700
TZOFFSETTO:-0800
TZNAME:PST
DTSTART:20231105T090000
END:STANDARD
END:VTIMEZONE
BEGIN:VEVENT
DTSTART;VALUE=DATE:20211121
DTEND;VALUE=DATE:20220102
DTSTAMP:20260421T124424
CREATED:20211110T175214Z
LAST-MODIFIED:20211110T175214Z
UID:10453-1637452800-1641081599@roseburgchamber.com
SUMMARY:Umpqua Valley Festival of Lights
DESCRIPTION:Umpqua Valley Festival of Lights at Riverforks Park runs November 21\, 2021 through January 1\, 2022.  For information about tickets and hours of operation visit Umpqua Valley Festival of Lights.
URL:https://roseburgchamber.com/event/umpqua-valley-festival-of-lights/
CATEGORIES:Visitor Events
END:VEVENT
BEGIN:VEVENT
DTSTART;VALUE=DATE:20211124
DTEND;VALUE=DATE:20211129
DTSTAMP:20260421T124424
CREATED:20210513T181517Z
LAST-MODIFIED:20211110T235533Z
UID:9913-1637712000-1638143999@roseburgchamber.com
SUMMARY:Visitor/Information Floor Closed to Public for Thanksgiving Holiday
DESCRIPTION:
URL:https://roseburgchamber.com/event/visitor-information-center-closes-for-winter-months/
CATEGORIES:Chamber Event
END:VEVENT
BEGIN:VEVENT
DTSTART;VALUE=DATE:20211126
DTEND;VALUE=DATE:20211127
DTSTAMP:20260421T124424
CREATED:20211012T183207Z
LAST-MODIFIED:20211122T232143Z
UID:10169-1637884800-1637971199@roseburgchamber.com
SUMMARY:Thanksgiving Holiday--Chamber Offices Closed
DESCRIPTION:
URL:https://roseburgchamber.com/event/thanksgiving-holiday-chamber-offices-closed-2/
CATEGORIES:Chamber Event
END:VEVENT
BEGIN:VEVENT
DTSTART;TZID=America/Los_Angeles:20211126T120000
DTEND;TZID=America/Los_Angeles:20211126T160000
DTSTAMP:20260421T124424
CREATED:20211122T230011Z
LAST-MODIFIED:20211122T230239Z
UID:10529-1637928000-1637942400@roseburgchamber.com
SUMMARY:Reustle Prayer Rock Vineyards Thanksgiving Open House
DESCRIPTION:Visit Reustle Prayer Rock Vineyards for more information.
URL:https://roseburgchamber.com/event/reustle-prayer-rock-vineyards-thanksgiving-open-house/
CATEGORIES:Visitor Events
END:VEVENT
BEGIN:VEVENT
DTSTART;TZID=America/Los_Angeles:20211126T123000
DTEND;TZID=America/Los_Angeles:20211126T180000
DTSTAMP:20260421T124424
CREATED:20211110T175903Z
LAST-MODIFIED:20211110T175903Z
UID:10455-1637929800-1637949600@roseburgchamber.com
SUMMARY:Cooper Ridge Vineyard Thanksgiving Open House
DESCRIPTION:Visit Cooper Ridge Vineyard for more information.
URL:https://roseburgchamber.com/event/cooper-ridge-vineyard-thanksgiving-open-house/
CATEGORIES:Visitor Events
END:VEVENT
END:VCALENDAR