BEGIN:VCALENDAR
VERSION:2.0
PRODID:-//Roseburg Area Chamber - ECPv6.15.20//NONSGML v1.0//EN
CALSCALE:GREGORIAN
METHOD:PUBLISH
X-WR-CALNAME:Roseburg Area Chamber
X-ORIGINAL-URL:https://roseburgchamber.com
X-WR-CALDESC:Events for Roseburg Area Chamber
REFRESH-INTERVAL;VALUE=DURATION:PT1H
X-Robots-Tag:noindex
X-PUBLISHED-TTL:PT1H
BEGIN:VTIMEZONE
TZID:America/Los_Angeles
BEGIN:DAYLIGHT
TZOFFSETFROM:-0800
TZOFFSETTO:-0700
TZNAME:PDT
DTSTART:20200308T100000
END:DAYLIGHT
BEGIN:STANDARD
TZOFFSETFROM:-0700
TZOFFSETTO:-0800
TZNAME:PST
DTSTART:20201101T090000
END:STANDARD
BEGIN:DAYLIGHT
TZOFFSETFROM:-0800
TZOFFSETTO:-0700
TZNAME:PDT
DTSTART:20210314T100000
END:DAYLIGHT
BEGIN:STANDARD
TZOFFSETFROM:-0700
TZOFFSETTO:-0800
TZNAME:PST
DTSTART:20211107T090000
END:STANDARD
BEGIN:DAYLIGHT
TZOFFSETFROM:-0800
TZOFFSETTO:-0700
TZNAME:PDT
DTSTART:20220313T100000
END:DAYLIGHT
BEGIN:STANDARD
TZOFFSETFROM:-0700
TZOFFSETTO:-0800
TZNAME:PST
DTSTART:20221106T090000
END:STANDARD
BEGIN:DAYLIGHT
TZOFFSETFROM:-0800
TZOFFSETTO:-0700
TZNAME:PDT
DTSTART:20230312T100000
END:DAYLIGHT
BEGIN:STANDARD
TZOFFSETFROM:-0700
TZOFFSETTO:-0800
TZNAME:PST
DTSTART:20231105T090000
END:STANDARD
END:VTIMEZONE
BEGIN:VEVENT
DTSTART;VALUE=DATE:20211121
DTEND;VALUE=DATE:20220102
DTSTAMP:20260421T111653
CREATED:20211110T175214Z
LAST-MODIFIED:20211110T175214Z
UID:10453-1637452800-1641081599@roseburgchamber.com
SUMMARY:Umpqua Valley Festival of Lights
DESCRIPTION:Umpqua Valley Festival of Lights at Riverforks Park runs November 21\, 2021 through January 1\, 2022.  For information about tickets and hours of operation visit Umpqua Valley Festival of Lights.
URL:https://roseburgchamber.com/event/umpqua-valley-festival-of-lights/
CATEGORIES:Visitor Events
END:VEVENT
BEGIN:VEVENT
DTSTART;VALUE=DATE:20211124
DTEND;VALUE=DATE:20211129
DTSTAMP:20260421T111653
CREATED:20210513T181517Z
LAST-MODIFIED:20211110T235533Z
UID:9913-1637712000-1638143999@roseburgchamber.com
SUMMARY:Visitor/Information Floor Closed to Public for Thanksgiving Holiday
DESCRIPTION:
URL:https://roseburgchamber.com/event/visitor-information-center-closes-for-winter-months/
CATEGORIES:Chamber Event
END:VEVENT
BEGIN:VEVENT
DTSTART;TZID=America/Los_Angeles:20211127T120000
DTEND;TZID=America/Los_Angeles:20211127T160000
DTSTAMP:20260421T111653
CREATED:20211122T230200Z
LAST-MODIFIED:20211122T230200Z
UID:10531-1638014400-1638028800@roseburgchamber.com
SUMMARY:Reustle Prayer Rock Vineyards Thanksgiving Open House
DESCRIPTION:Visit Reustle Prayer Rock Vineyards for more information.
URL:https://roseburgchamber.com/event/reustle-prayer-rock-vineyards-thanksgiving-open-house-2/
CATEGORIES:Visitor Events
END:VEVENT
BEGIN:VEVENT
DTSTART;TZID=America/Los_Angeles:20211127T120000
DTEND;TZID=America/Los_Angeles:20211127T170000
DTSTAMP:20260421T111653
CREATED:20211126T210950Z
LAST-MODIFIED:20211126T210950Z
UID:10543-1638014400-1638032400@roseburgchamber.com
SUMMARY:Girardet Vineyards & Winery OPEN
DESCRIPTION:See Girardet Vineyards FB page for more information about Saturday’s special treat!
URL:https://roseburgchamber.com/event/girardet-vineyards-winery-open/
CATEGORIES:Visitor Events
END:VEVENT
END:VCALENDAR