BEGIN:VCALENDAR
VERSION:2.0
PRODID:-//Roseburg Area Chamber - ECPv6.15.20//NONSGML v1.0//EN
CALSCALE:GREGORIAN
METHOD:PUBLISH
X-ORIGINAL-URL:https://roseburgchamber.com
X-WR-CALDESC:Events for Roseburg Area Chamber
REFRESH-INTERVAL;VALUE=DURATION:PT1H
X-Robots-Tag:noindex
X-PUBLISHED-TTL:PT1H
BEGIN:VTIMEZONE
TZID:America/Los_Angeles
BEGIN:DAYLIGHT
TZOFFSETFROM:-0800
TZOFFSETTO:-0700
TZNAME:PDT
DTSTART:20210314T100000
END:DAYLIGHT
BEGIN:STANDARD
TZOFFSETFROM:-0700
TZOFFSETTO:-0800
TZNAME:PST
DTSTART:20211107T090000
END:STANDARD
BEGIN:DAYLIGHT
TZOFFSETFROM:-0800
TZOFFSETTO:-0700
TZNAME:PDT
DTSTART:20220313T100000
END:DAYLIGHT
BEGIN:STANDARD
TZOFFSETFROM:-0700
TZOFFSETTO:-0800
TZNAME:PST
DTSTART:20221106T090000
END:STANDARD
BEGIN:DAYLIGHT
TZOFFSETFROM:-0800
TZOFFSETTO:-0700
TZNAME:PDT
DTSTART:20230312T100000
END:DAYLIGHT
BEGIN:STANDARD
TZOFFSETFROM:-0700
TZOFFSETTO:-0800
TZNAME:PST
DTSTART:20231105T090000
END:STANDARD
BEGIN:DAYLIGHT
TZOFFSETFROM:-0800
TZOFFSETTO:-0700
TZNAME:PDT
DTSTART:20240310T100000
END:DAYLIGHT
BEGIN:STANDARD
TZOFFSETFROM:-0700
TZOFFSETTO:-0800
TZNAME:PST
DTSTART:20241103T090000
END:STANDARD
END:VTIMEZONE
BEGIN:VEVENT
DTSTART;TZID=America/Los_Angeles:20221120T173000
DTEND;TZID=America/Los_Angeles:20230101T210000
DTSTAMP:20260421T030548
CREATED:20221107T181459Z
LAST-MODIFIED:20221107T181459Z
UID:11750-1668965400-1672606800@roseburgchamber.com
SUMMARY:Umpqua Valley Festival of Lights
DESCRIPTION:The 30th annual Umpqua Valley Festival of Lights is November 20\, 2022 through January 1\, 2023\, nightly at 5:30 p.m.  The drive-through light spectacular displays are at River Forks Park in Roseburg\, Oregon.  For more information about the displays\, hours of operation or to get your e-tickets CLICK HERE.
URL:https://roseburgchamber.com/event/umpqua-valley-festival-of-lights-2/
LOCATION:River Forks Park\, 380 River Forks Park Rd\, Roseburg\, OR\, 97471
CATEGORIES:Visitor Events
GEO:43.269564;-123.4388849
X-APPLE-STRUCTURED-LOCATION;VALUE=URI;X-ADDRESS=River Forks Park 380 River Forks Park Rd Roseburg OR 97471;X-APPLE-RADIUS=500;X-TITLE=380 River Forks Park Rd:geo:-123.4388849,43.269564
END:VEVENT
BEGIN:VEVENT
DTSTART;VALUE=DATE:20221124
DTEND;VALUE=DATE:20221126
DTSTAMP:20260421T030548
CREATED:20211013T181346Z
LAST-MODIFIED:20211013T181346Z
UID:10253-1669248000-1669420799@roseburgchamber.com
SUMMARY:Thanksgiving Holiday--Chamber CLOSED
DESCRIPTION:
URL:https://roseburgchamber.com/event/thanksgiving-holiday-chamber-closed-2/
CATEGORIES:Chamber Event
END:VEVENT
BEGIN:VEVENT
DTSTART;VALUE=DATE:20221125
DTEND;VALUE=DATE:20221126
DTSTAMP:20260421T030548
CREATED:20221116T213931Z
LAST-MODIFIED:20221116T214429Z
UID:11788-1669334400-1669420799@roseburgchamber.com
SUMMARY:Black Friday--SHOP LOCAL!
DESCRIPTION:Please keep our local economy strong by shopping local this holiday season.  Be sure and check out our Roseburg Area Chamber members’ products and services!
URL:https://roseburgchamber.com/event/black-friday-shop-local-2/
CATEGORIES:Chamber Event,Visitor Events
END:VEVENT
BEGIN:VEVENT
DTSTART;TZID=America/Los_Angeles:20221125T100000
DTEND;TZID=America/Los_Angeles:20221125T170000
DTSTAMP:20260421T030548
CREATED:20221121T225828Z
LAST-MODIFIED:20221121T225828Z
UID:11828-1669370400-1669395600@roseburgchamber.com
SUMMARY:Reustle Prayer Rock Vineyards Thanksgiving Open House
DESCRIPTION:For directions and more details\, please visit Reustle Prayer Rock Vineyards.
URL:https://roseburgchamber.com/event/reustle-prayer-rock-vineyards-thanksgiving-open-house-3/
CATEGORIES:Visitor Events
END:VEVENT
END:VCALENDAR