BEGIN:VCALENDAR
VERSION:2.0
PRODID:-//Roseburg Area Chamber - ECPv6.15.20//NONSGML v1.0//EN
CALSCALE:GREGORIAN
METHOD:PUBLISH
X-ORIGINAL-URL:https://roseburgchamber.com
X-WR-CALDESC:Events for Roseburg Area Chamber
REFRESH-INTERVAL;VALUE=DURATION:PT1H
X-Robots-Tag:noindex
X-PUBLISHED-TTL:PT1H
BEGIN:VTIMEZONE
TZID:America/Los_Angeles
BEGIN:DAYLIGHT
TZOFFSETFROM:-0800
TZOFFSETTO:-0700
TZNAME:PDT
DTSTART:20220313T100000
END:DAYLIGHT
BEGIN:STANDARD
TZOFFSETFROM:-0700
TZOFFSETTO:-0800
TZNAME:PST
DTSTART:20221106T090000
END:STANDARD
BEGIN:DAYLIGHT
TZOFFSETFROM:-0800
TZOFFSETTO:-0700
TZNAME:PDT
DTSTART:20230312T100000
END:DAYLIGHT
BEGIN:STANDARD
TZOFFSETFROM:-0700
TZOFFSETTO:-0800
TZNAME:PST
DTSTART:20231105T090000
END:STANDARD
BEGIN:DAYLIGHT
TZOFFSETFROM:-0800
TZOFFSETTO:-0700
TZNAME:PDT
DTSTART:20240310T100000
END:DAYLIGHT
BEGIN:STANDARD
TZOFFSETFROM:-0700
TZOFFSETTO:-0800
TZNAME:PST
DTSTART:20241103T090000
END:STANDARD
END:VTIMEZONE
BEGIN:VEVENT
DTSTART;TZID=America/Los_Angeles:20230411T163000
DTEND;TZID=America/Los_Angeles:20230411T183000
DTSTAMP:20260421T004746
CREATED:20221117T203600Z
LAST-MODIFIED:20230404T183410Z
UID:11817-1681230600-1681237800@roseburgchamber.com
SUMMARY:Business After Hours @ Pinnacle Engineering
DESCRIPTION:Celebrate a long-time local business at a new location.  Enjoy business and professional networking while checking out Pinnacle Engineering‘s new digs at 4276 Highway 99S in Roseburg.  Admission is $3 at the door.  More details in the chamber’s March/April 2023 issue of Business Perspectives e-newsletter and “Chamber News” emails.
URL:https://roseburgchamber.com/event/business-after-hours-pinnacle-engineering/
CATEGORIES:Chamber Event
END:VEVENT
END:VCALENDAR