BEGIN:VCALENDAR
VERSION:2.0
PRODID:-//Roseburg Area Chamber - ECPv6.15.20//NONSGML v1.0//EN
CALSCALE:GREGORIAN
METHOD:PUBLISH
X-WR-CALNAME:Roseburg Area Chamber
X-ORIGINAL-URL:https://roseburgchamber.com
X-WR-CALDESC:Events for Roseburg Area Chamber
REFRESH-INTERVAL;VALUE=DURATION:PT1H
X-Robots-Tag:noindex
X-PUBLISHED-TTL:PT1H
BEGIN:VTIMEZONE
TZID:America/Los_Angeles
BEGIN:DAYLIGHT
TZOFFSETFROM:-0800
TZOFFSETTO:-0700
TZNAME:PDT
DTSTART:20210314T100000
END:DAYLIGHT
BEGIN:STANDARD
TZOFFSETFROM:-0700
TZOFFSETTO:-0800
TZNAME:PST
DTSTART:20211107T090000
END:STANDARD
BEGIN:DAYLIGHT
TZOFFSETFROM:-0800
TZOFFSETTO:-0700
TZNAME:PDT
DTSTART:20220313T100000
END:DAYLIGHT
BEGIN:STANDARD
TZOFFSETFROM:-0700
TZOFFSETTO:-0800
TZNAME:PST
DTSTART:20221106T090000
END:STANDARD
BEGIN:DAYLIGHT
TZOFFSETFROM:-0800
TZOFFSETTO:-0700
TZNAME:PDT
DTSTART:20230312T100000
END:DAYLIGHT
BEGIN:STANDARD
TZOFFSETFROM:-0700
TZOFFSETTO:-0800
TZNAME:PST
DTSTART:20231105T090000
END:STANDARD
END:VTIMEZONE
BEGIN:VEVENT
DTSTART;TZID=America/Los_Angeles:20220309T000000
DTEND;TZID=America/Los_Angeles:20220309T170000
DTSTAMP:20260421T053118
CREATED:20220128T210101Z
LAST-MODIFIED:20220223T181615Z
UID:10699-1646784000-1646845200@roseburgchamber.com
SUMMARY:2022 Member Lunch Season Pass Sale Ends March 9!
DESCRIPTION:The Roseburg Area Chamber of Commerce has reopened the sale of season passes for the remaining membership meeting lunches for 2022.  Sale of season passes for 2022 closes permanently at 5:00 p.m. on March 9.  NEVER RSVP again! Attend the remaining seven membership meeting lunches for 2022\, with the purchase of a season pass and never worry about forgetting to make a reservation. With your season pass\, it’s all taken care of! Individual season passes are exclusively for RACC members as a member-benefit.
URL:https://roseburgchamber.com/event/2022-member-lunch-season-pass-sale-2022-03-09/
CATEGORIES:Chamber Event
END:VEVENT
BEGIN:VEVENT
DTSTART;VALUE=DATE:20220310
DTEND;VALUE=DATE:20220311
DTSTAMP:20260421T053118
CREATED:20211012T182215Z
LAST-MODIFIED:20211012T182215Z
UID:10156-1646870400-1646956799@roseburgchamber.com
SUMMARY:2021-22 Project Leadership Workshop #5
DESCRIPTION:
URL:https://roseburgchamber.com/event/2021-22-project-leadership-workshop-5/
CATEGORIES:Chamber Event
END:VEVENT
BEGIN:VEVENT
DTSTART;TZID=America/Los_Angeles:20220314T114500
DTEND;TZID=America/Los_Angeles:20220314T130000
DTSTAMP:20260421T053118
CREATED:20210427T212622Z
LAST-MODIFIED:20221013T001251Z
UID:9869-1647258300-1647262800@roseburgchamber.com
SUMMARY:March Membership Meeting Luncheon--RESERVATIONS CLOSED
DESCRIPTION:
URL:https://roseburgchamber.com/event/march-membership-meeting-luncheon/
LOCATION:Douglas County Fairgrounds Conference Hall\, 2110 SW Frear Street\, Roseburg\, OR\, 97471\, United States
CATEGORIES:Chamber Event
GEO:43.198582;-123.358602
X-APPLE-STRUCTURED-LOCATION;VALUE=URI;X-ADDRESS=Douglas County Fairgrounds Conference Hall 2110 SW Frear Street Roseburg OR 97471 United States;X-APPLE-RADIUS=500;X-TITLE=2110 SW Frear Street:geo:-123.358602,43.198582
END:VEVENT
BEGIN:VEVENT
DTSTART;TZID=America/Los_Angeles:20220324T174500
DTEND;TZID=America/Los_Angeles:20220324T200000
DTSTAMP:20260421T053118
CREATED:20210427T213543Z
LAST-MODIFIED:20220321T214527Z
UID:9875-1648143900-1648152000@roseburgchamber.com
SUMMARY:RACC Annual Membership Meeting\, Celebration of Business & Awards Dinner--RESERVATIONS CLOSED
DESCRIPTION:  \nTICKET SALES CLOSED.  The Roseburg Area Chamber of Commerce will host its annual meeting of the membership\, celebration of business and awards dinner on March 24\, 2022.  Chamber leadership will share the organization’s activities for the past two years and discuss future priorities.  Small\, medium and large businesses of the year will be honored and\, the night will be highlighted by First Citizen recognitions. \nPlease see the upcoming March/April issue of Business Perspectives and future “Chamber News” member emails for more details and information.  We look forward to seeing our members on March 24! \nDinner is 5:45 to 8:00 pm:  Reception at 5:45 pm / Dinner at 6:30 pm / Program at 7:10 pm
URL:https://roseburgchamber.com/event/racc-annual-awards-celebration-of-business-events/
LOCATION:Douglas County Fairgrounds Conference Hall\, 2110 SW Frear Street\, Roseburg\, OR\, 97471\, United States
CATEGORIES:Chamber Event
GEO:43.198582;-123.358602
X-APPLE-STRUCTURED-LOCATION;VALUE=URI;X-ADDRESS=Douglas County Fairgrounds Conference Hall 2110 SW Frear Street Roseburg OR 97471 United States;X-APPLE-RADIUS=500;X-TITLE=2110 SW Frear Street:geo:-123.358602,43.198582
END:VEVENT
END:VCALENDAR