BEGIN:VCALENDAR
VERSION:2.0
PRODID:-//Roseburg Area Chamber - ECPv6.15.20//NONSGML v1.0//EN
CALSCALE:GREGORIAN
METHOD:PUBLISH
X-ORIGINAL-URL:https://roseburgchamber.com
X-WR-CALDESC:Events for Roseburg Area Chamber
REFRESH-INTERVAL;VALUE=DURATION:PT1H
X-Robots-Tag:noindex
X-PUBLISHED-TTL:PT1H
BEGIN:VTIMEZONE
TZID:America/Los_Angeles
BEGIN:DAYLIGHT
TZOFFSETFROM:-0800
TZOFFSETTO:-0700
TZNAME:PDT
DTSTART:20220313T100000
END:DAYLIGHT
BEGIN:STANDARD
TZOFFSETFROM:-0700
TZOFFSETTO:-0800
TZNAME:PST
DTSTART:20221106T090000
END:STANDARD
BEGIN:DAYLIGHT
TZOFFSETFROM:-0800
TZOFFSETTO:-0700
TZNAME:PDT
DTSTART:20230312T100000
END:DAYLIGHT
BEGIN:STANDARD
TZOFFSETFROM:-0700
TZOFFSETTO:-0800
TZNAME:PST
DTSTART:20231105T090000
END:STANDARD
BEGIN:DAYLIGHT
TZOFFSETFROM:-0800
TZOFFSETTO:-0700
TZNAME:PDT
DTSTART:20240310T100000
END:DAYLIGHT
BEGIN:STANDARD
TZOFFSETFROM:-0700
TZOFFSETTO:-0800
TZNAME:PST
DTSTART:20241103T090000
END:STANDARD
END:VTIMEZONE
BEGIN:VEVENT
DTSTART;TZID=America/Los_Angeles:20230109T114500
DTEND;TZID=America/Los_Angeles:20230109T130000
DTSTAMP:20260421T124722
CREATED:20221207T175133Z
LAST-MODIFIED:20230221T194508Z
UID:11880-1673264700-1673269200@roseburgchamber.com
SUMMARY:Membership Meeting Lunch "State of the County"--RESERVATIONS/TICKET SALES CLOSED
DESCRIPTION:The chamber’s membership meeting lunches for 2023 begin on Monday\, January 9\, 2023.  The January program will be our annual state of the county update\, presented by the 2022 chair of the Douglas County Board of Commissioners\, the Honorable Tim Freeman.  The January membership lunch is sponsored by Avista Utilities.  RACC member season passes for 2023 are on sale now HERE.  Individual tickets and full table tickets for the January 9 lunch go on sale on December 26\, 2022.  Don’t delay\, ticket sales close on January 4 at 5:00 p.m.
URL:https://roseburgchamber.com/event/membership-meeting-lunch-state-of-the-county/
LOCATION:Douglas County Fairgrounds
CATEGORIES:Chamber Event
END:VEVENT
BEGIN:VEVENT
DTSTART;VALUE=DATE:20230112
DTEND;VALUE=DATE:20230113
DTSTAMP:20260421T124722
CREATED:20211013T181925Z
LAST-MODIFIED:20211013T181925Z
UID:10263-1673481600-1673567999@roseburgchamber.com
SUMMARY:2022-23 Project Leadership Workshop #4
DESCRIPTION:
URL:https://roseburgchamber.com/event/2022-23-project-leadership-workshop-4/
CATEGORIES:Chamber Event
END:VEVENT
END:VCALENDAR