BEGIN:VCALENDAR
VERSION:2.0
PRODID:-//Roseburg Area Chamber - ECPv6.15.20//NONSGML v1.0//EN
CALSCALE:GREGORIAN
METHOD:PUBLISH
X-WR-CALNAME:Roseburg Area Chamber
X-ORIGINAL-URL:https://roseburgchamber.com
X-WR-CALDESC:Events for Roseburg Area Chamber
REFRESH-INTERVAL;VALUE=DURATION:PT1H
X-Robots-Tag:noindex
X-PUBLISHED-TTL:PT1H
BEGIN:VTIMEZONE
TZID:America/Los_Angeles
BEGIN:DAYLIGHT
TZOFFSETFROM:-0800
TZOFFSETTO:-0700
TZNAME:PDT
DTSTART:20180311T100000
END:DAYLIGHT
BEGIN:STANDARD
TZOFFSETFROM:-0700
TZOFFSETTO:-0800
TZNAME:PST
DTSTART:20181104T090000
END:STANDARD
BEGIN:DAYLIGHT
TZOFFSETFROM:-0800
TZOFFSETTO:-0700
TZNAME:PDT
DTSTART:20190310T100000
END:DAYLIGHT
BEGIN:STANDARD
TZOFFSETFROM:-0700
TZOFFSETTO:-0800
TZNAME:PST
DTSTART:20191103T090000
END:STANDARD
BEGIN:DAYLIGHT
TZOFFSETFROM:-0800
TZOFFSETTO:-0700
TZNAME:PDT
DTSTART:20200308T100000
END:DAYLIGHT
BEGIN:STANDARD
TZOFFSETFROM:-0700
TZOFFSETTO:-0800
TZNAME:PST
DTSTART:20201101T090000
END:STANDARD
END:VTIMEZONE
BEGIN:VEVENT
DTSTART;TZID=America/Los_Angeles:20191102T100000
DTEND;TZID=America/Los_Angeles:20191102T180000
DTSTAMP:20260421T124514
CREATED:20191015T205348Z
LAST-MODIFIED:20191015T213536Z
UID:7373-1572688800-1572717600@roseburgchamber.com
SUMMARY:Fall Craft Fair
DESCRIPTION:
URL:https://roseburgchamber.com/event/fall-craft-fair/
LOCATION:Virtual\, Roseburg\, OR\, United States
CATEGORIES:Visitor Events
GEO:43.198582;-123.358602
END:VEVENT
BEGIN:VEVENT
DTSTART;TZID=America/Los_Angeles:20191102T120000
DTEND;TZID=America/Los_Angeles:20191102T190000
DTSTAMP:20260421T124514
CREATED:20191015T212159Z
LAST-MODIFIED:20191015T212159Z
UID:7386-1572696000-1572721200@roseburgchamber.com
SUMMARY:Fall Craft Festival
DESCRIPTION:
URL:https://roseburgchamber.com/event/fall-craft-festival/
LOCATION:Seven Feathers Casino & Resort\, 146 Chief Miwaleta Ln.\, Canyonville\, OR\, 97417\, United States
CATEGORIES:Visitor Events
GEO:42.9394793;-123.2837196
X-APPLE-STRUCTURED-LOCATION;VALUE=URI;X-ADDRESS=Seven Feathers Casino & Resort 146 Chief Miwaleta Ln. Canyonville OR 97417 United States;X-APPLE-RADIUS=500;X-TITLE=146 Chief Miwaleta Ln.:geo:-123.2837196,42.9394793
END:VEVENT
BEGIN:VEVENT
DTSTART;TZID=America/Los_Angeles:20191123T200000
DTEND;TZID=America/Los_Angeles:20191123T200000
DTSTAMP:20260421T124514
CREATED:20191015T212306Z
LAST-MODIFIED:20191015T212306Z
UID:7388-1574539200-1574539200@roseburgchamber.com
SUMMARY:Jeff Foxworthy
DESCRIPTION:
URL:https://roseburgchamber.com/event/jeff-foxworthy/
LOCATION:Seven Feathers Casino & Resort\, 146 Chief Miwaleta Ln.\, Canyonville\, OR\, 97417\, United States
CATEGORIES:Visitor Events
GEO:42.9394793;-123.2837196
X-APPLE-STRUCTURED-LOCATION;VALUE=URI;X-ADDRESS=Seven Feathers Casino & Resort 146 Chief Miwaleta Ln. Canyonville OR 97417 United States;X-APPLE-RADIUS=500;X-TITLE=146 Chief Miwaleta Ln.:geo:-123.2837196,42.9394793
END:VEVENT
BEGIN:VEVENT
DTSTART;TZID=America/Los_Angeles:20191125T110000
DTEND;TZID=America/Los_Angeles:20191127T170000
DTSTAMP:20260421T124514
CREATED:20191015T205755Z
LAST-MODIFIED:20191015T205755Z
UID:7375-1574679600-1574874000@roseburgchamber.com
SUMMARY:Girardet Winery Thanksgiving Weekend Open House
DESCRIPTION:
URL:https://roseburgchamber.com/event/girardet-winery-thanksgiving-weekend-open-house/
LOCATION:Girardet Winery\, 895 Reston Rd.\, Roseburg\, OR\, 97471\, United States
CATEGORIES:Visitor Events
GEO:43.0984428;-123.5752499
X-APPLE-STRUCTURED-LOCATION;VALUE=URI;X-ADDRESS=Girardet Winery 895 Reston Rd. Roseburg OR 97471 United States;X-APPLE-RADIUS=500;X-TITLE=895 Reston Rd.:geo:-123.5752499,43.0984428
END:VEVENT
BEGIN:VEVENT
DTSTART;TZID=America/Los_Angeles:20191128T080000
DTEND;TZID=America/Los_Angeles:20191128T100000
DTSTAMP:20260421T124514
CREATED:20191015T212747Z
LAST-MODIFIED:20191015T212747Z
UID:7399-1574928000-1574935200@roseburgchamber.com
SUMMARY:Turkey Trot
DESCRIPTION:
URL:https://roseburgchamber.com/event/turkey-trot/
LOCATION:Wildlife Safari\, 1790 Safari Rd.\, Winston\, OR\, 97496\, United States
CATEGORIES:Visitor Events
GEO:43.1408674;-123.4274526
X-APPLE-STRUCTURED-LOCATION;VALUE=URI;X-ADDRESS=Wildlife Safari 1790 Safari Rd. Winston OR 97496 United States;X-APPLE-RADIUS=500;X-TITLE=1790 Safari Rd.:geo:-123.4274526,43.1408674
END:VEVENT
BEGIN:VEVENT
DTSTART;TZID=America/Los_Angeles:20191129T170000
DTEND;TZID=America/Los_Angeles:20191130T190000
DTSTAMP:20260421T124514
CREATED:20191015T210036Z
LAST-MODIFIED:20191015T210036Z
UID:7378-1575046800-1575140400@roseburgchamber.com
SUMMARY:Delfino Vineyard Thanksgiving Open House
DESCRIPTION:
URL:https://roseburgchamber.com/event/delfino-vineyard-thanksgiving-open-house/
LOCATION:Delfino Vineyard\, 3829 Colonial Rd.\, Roseburg\, OR\, 97471\, United States
CATEGORIES:Visitor Events
GEO:43.2265143;-123.4658533
X-APPLE-STRUCTURED-LOCATION;VALUE=URI;X-ADDRESS=Delfino Vineyard 3829 Colonial Rd. Roseburg OR 97471 United States;X-APPLE-RADIUS=500;X-TITLE=3829 Colonial Rd.:geo:-123.4658533,43.2265143
END:VEVENT
BEGIN:VEVENT
DTSTART;TZID=America/Los_Angeles:20191130T070000
DTEND;TZID=America/Los_Angeles:20191130T220000
DTSTAMP:20260421T124514
CREATED:20191015T214156Z
LAST-MODIFIED:20211013T174759Z
UID:7408-1575097200-1575151200@roseburgchamber.com
SUMMARY:Shop Small Business Saturday--SHOP LOCAL!
DESCRIPTION:Think Local\, Spend Local with Shop Small Saturday!
URL:https://roseburgchamber.com/event/shop-small-business-saturday/
LOCATION:OR
CATEGORIES:Chamber Event,Visitor Events
END:VEVENT
BEGIN:VEVENT
DTSTART;TZID=America/Los_Angeles:20191130T200000
DTEND;TZID=America/Los_Angeles:20191130T230000
DTSTAMP:20260421T124514
CREATED:20191015T212016Z
LAST-MODIFIED:20191015T212016Z
UID:7384-1575144000-1575154800@roseburgchamber.com
SUMMARY:Price Is Right - Live Show
DESCRIPTION:
URL:https://roseburgchamber.com/event/price-is-right-live-show/
LOCATION:Seven Feathers Casino & Resort\, 146 Chief Miwaleta Ln.\, Canyonville\, OR\, 97417\, United States
CATEGORIES:Visitor Events
GEO:42.9394793;-123.2837196
X-APPLE-STRUCTURED-LOCATION;VALUE=URI;X-ADDRESS=Seven Feathers Casino & Resort 146 Chief Miwaleta Ln. Canyonville OR 97417 United States;X-APPLE-RADIUS=500;X-TITLE=146 Chief Miwaleta Ln.:geo:-123.2837196,42.9394793
END:VEVENT
END:VCALENDAR