BEGIN:VCALENDAR
VERSION:2.0
PRODID:-//Roseburg Area Chamber - ECPv6.15.20//NONSGML v1.0//EN
CALSCALE:GREGORIAN
METHOD:PUBLISH
X-WR-CALNAME:Roseburg Area Chamber
X-ORIGINAL-URL:https://roseburgchamber.com
X-WR-CALDESC:Events for Roseburg Area Chamber
REFRESH-INTERVAL;VALUE=DURATION:PT1H
X-Robots-Tag:noindex
X-PUBLISHED-TTL:PT1H
BEGIN:VTIMEZONE
TZID:America/Los_Angeles
BEGIN:DAYLIGHT
TZOFFSETFROM:-0800
TZOFFSETTO:-0700
TZNAME:PDT
DTSTART:20220313T100000
END:DAYLIGHT
BEGIN:STANDARD
TZOFFSETFROM:-0700
TZOFFSETTO:-0800
TZNAME:PST
DTSTART:20221106T090000
END:STANDARD
BEGIN:DAYLIGHT
TZOFFSETFROM:-0800
TZOFFSETTO:-0700
TZNAME:PDT
DTSTART:20230312T100000
END:DAYLIGHT
BEGIN:STANDARD
TZOFFSETFROM:-0700
TZOFFSETTO:-0800
TZNAME:PST
DTSTART:20231105T090000
END:STANDARD
BEGIN:DAYLIGHT
TZOFFSETFROM:-0800
TZOFFSETTO:-0700
TZNAME:PDT
DTSTART:20240310T100000
END:DAYLIGHT
BEGIN:STANDARD
TZOFFSETFROM:-0700
TZOFFSETTO:-0800
TZNAME:PST
DTSTART:20241103T090000
END:STANDARD
END:VTIMEZONE
BEGIN:VEVENT
DTSTART;TZID=America/Los_Angeles:20230801T190000
DTEND;TZID=America/Los_Angeles:20230801T220000
DTSTAMP:20260422T143502
CREATED:20230524T171256Z
LAST-MODIFIED:20230524T171256Z
UID:12814-1690916400-1690927200@roseburgchamber.com
SUMMARY:Music on the Half Shell
DESCRIPTION:Sona Jobarteh – For more details visit Music on the Half Shell.
URL:https://roseburgchamber.com/event/music-on-the-half-shell-13/
LOCATION:The Nichols Bandshell at Stewart Park\, 1002 NW Stewart Park Drive\, Roseburg\, OR\, United States
CATEGORIES:Visitor Events
END:VEVENT
BEGIN:VEVENT
DTSTART;TZID=America/Los_Angeles:20230803T190000
DTEND;TZID=America/Los_Angeles:20230803T223000
DTSTAMP:20260422T143502
CREATED:20230516T210656Z
LAST-MODIFIED:20230516T210656Z
UID:12740-1691089200-1691101800@roseburgchamber.com
SUMMARY:Music Off Central
DESCRIPTION:TBA – Visit Music Off Central for details.
URL:https://roseburgchamber.com/event/music-off-central-4/
LOCATION:Central Park\, Sutherlin OR
CATEGORIES:Visitor Events
END:VEVENT
BEGIN:VEVENT
DTSTART;TZID=America/Los_Angeles:20230808T190000
DTEND;TZID=America/Los_Angeles:20230808T220000
DTSTAMP:20260422T143502
CREATED:20230524T171438Z
LAST-MODIFIED:20230524T171438Z
UID:12816-1691521200-1691532000@roseburgchamber.com
SUMMARY:Music on the Half Shell
DESCRIPTION:The Po’ Ramblin’ Boys – For more details visit Music on the Half Shell.
URL:https://roseburgchamber.com/event/music-on-the-half-shell-14/
LOCATION:The Nichols Bandshell at Stewart Park\, 1002 NW Stewart Park Drive\, Roseburg\, OR\, United States
CATEGORIES:Visitor Events
END:VEVENT
BEGIN:VEVENT
DTSTART;TZID=America/Los_Angeles:20230809T120000
DTEND;TZID=America/Los_Angeles:20230809T230000
DTSTAMP:20260422T143502
CREATED:20230116T233451Z
LAST-MODIFIED:20230116T233451Z
UID:12136-1691582400-1691622000@roseburgchamber.com
SUMMARY:Douglas County Fair
DESCRIPTION:For more information CLICK HERE!
URL:https://roseburgchamber.com/event/douglas-county-fair-4/2023-08-09/
LOCATION:Douglas County Fairgrounds
CATEGORIES:Visitor Events
END:VEVENT
BEGIN:VEVENT
DTSTART;TZID=America/Los_Angeles:20230815T190000
DTEND;TZID=America/Los_Angeles:20230815T220000
DTSTAMP:20260422T143502
CREATED:20230524T171556Z
LAST-MODIFIED:20230524T171556Z
UID:12818-1692126000-1692136800@roseburgchamber.com
SUMMARY:Music on the Half Shell
DESCRIPTION:Lao Tizer Band – For more details visit Music on the Half Shell.
URL:https://roseburgchamber.com/event/music-on-the-half-shell-15/
LOCATION:The Nichols Bandshell at Stewart Park\, 1002 NW Stewart Park Drive\, Roseburg\, OR\, United States
CATEGORIES:Visitor Events
END:VEVENT
BEGIN:VEVENT
DTSTART;TZID=America/Los_Angeles:20230817T190000
DTEND;TZID=America/Los_Angeles:20230817T223000
DTSTAMP:20260422T143502
CREATED:20230516T210840Z
LAST-MODIFIED:20230516T210840Z
UID:12742-1692298800-1692311400@roseburgchamber.com
SUMMARY:Music Off Central
DESCRIPTION:ULTIMATE ELVIS JUSTIN SHANDOR – Visit Music Off Central for details.
URL:https://roseburgchamber.com/event/music-off-central-5/
LOCATION:Central Park\, Sutherlin OR
CATEGORIES:Visitor Events
END:VEVENT
BEGIN:VEVENT
DTSTART;VALUE=DATE:20230818
DTEND;VALUE=DATE:20230821
DTSTAMP:20260422T143502
CREATED:20230424T203902Z
LAST-MODIFIED:20230424T203902Z
UID:12585-1692316800-1692575999@roseburgchamber.com
SUMMARY:Sutherlin Blackberry Festival
DESCRIPTION:Visit Sutherlin Blackberry Festival for details about the three-day festival\, August 18-20.
URL:https://roseburgchamber.com/event/sutherlin-blackberry-festival-4/
LOCATION:OR
CATEGORIES:Visitor Events
END:VEVENT
BEGIN:VEVENT
DTSTART;TZID=America/Los_Angeles:20230826T090000
DTEND;TZID=America/Los_Angeles:20230826T170000
DTSTAMP:20260422T143502
CREATED:20230524T173514Z
LAST-MODIFIED:20230524T173514Z
UID:12824-1693040400-1693069200@roseburgchamber.com
SUMMARY:Douglas County Celtic Society 2023 Highland Games
DESCRIPTION:For more information\, visit Douglas County Celtic Society FB page.
URL:https://roseburgchamber.com/event/douglas-county-celtic-society-2023-highland-games/2023-08-26/
LOCATION:OR\, United States
CATEGORIES:Visitor Events
END:VEVENT
END:VCALENDAR