BEGIN:VCALENDAR
VERSION:2.0
PRODID:-//Roseburg Area Chamber - ECPv6.15.20//NONSGML v1.0//EN
CALSCALE:GREGORIAN
METHOD:PUBLISH
X-WR-CALNAME:Roseburg Area Chamber
X-ORIGINAL-URL:https://roseburgchamber.com
X-WR-CALDESC:Events for Roseburg Area Chamber
REFRESH-INTERVAL;VALUE=DURATION:PT1H
X-Robots-Tag:noindex
X-PUBLISHED-TTL:PT1H
BEGIN:VTIMEZONE
TZID:America/Los_Angeles
BEGIN:DAYLIGHT
TZOFFSETFROM:-0800
TZOFFSETTO:-0700
TZNAME:PDT
DTSTART:20240310T100000
END:DAYLIGHT
BEGIN:STANDARD
TZOFFSETFROM:-0700
TZOFFSETTO:-0800
TZNAME:PST
DTSTART:20241103T090000
END:STANDARD
BEGIN:DAYLIGHT
TZOFFSETFROM:-0800
TZOFFSETTO:-0700
TZNAME:PDT
DTSTART:20250309T100000
END:DAYLIGHT
BEGIN:STANDARD
TZOFFSETFROM:-0700
TZOFFSETTO:-0800
TZNAME:PST
DTSTART:20251102T090000
END:STANDARD
BEGIN:DAYLIGHT
TZOFFSETFROM:-0800
TZOFFSETTO:-0700
TZNAME:PDT
DTSTART:20260308T100000
END:DAYLIGHT
BEGIN:STANDARD
TZOFFSETFROM:-0700
TZOFFSETTO:-0800
TZNAME:PST
DTSTART:20261101T090000
END:STANDARD
END:VTIMEZONE
BEGIN:VEVENT
DTSTART;TZID=America/Los_Angeles:20250701T190000
DTEND;TZID=America/Los_Angeles:20250701T220000
DTSTAMP:20260424T084133
CREATED:20250515T174001Z
LAST-MODIFIED:20250515T174001Z
UID:17099-1751396400-1751407200@roseburgchamber.com
SUMMARY:Music on the Half Shell
DESCRIPTION:THE MOTET – For more details visit Music on the Half Shell.
URL:https://roseburgchamber.com/event/music-on-the-half-shell-26/
LOCATION:OR
CATEGORIES:Visitor Events
END:VEVENT
BEGIN:VEVENT
DTSTART;TZID=America/Los_Angeles:20250703T190000
DTEND;TZID=America/Los_Angeles:20250703T223000
DTSTAMP:20260424T084133
CREATED:20250502T184042Z
LAST-MODIFIED:20250502T184607Z
UID:16928-1751569200-1751581800@roseburgchamber.com
SUMMARY:Music Off Central -- "The Vandoliers"
DESCRIPTION:Please visit Music Off Central for details.
URL:https://roseburgchamber.com/event/music-off-central-the-vandoliers/
LOCATION:Central Park\, Sutherlin OR 97479\, 301-399 E Dean Street\, Sutherlin\, OR\, 97479\, United States
CATEGORIES:Visitor Events
END:VEVENT
BEGIN:VEVENT
DTSTART;TZID=America/Los_Angeles:20250704T190000
DTEND;TZID=America/Los_Angeles:20250704T213000
DTSTAMP:20260424T084133
CREATED:20250502T182233Z
LAST-MODIFIED:20250502T182233Z
UID:16916-1751655600-1751664600@roseburgchamber.com
SUMMARY:Riverbend Live! -- "Southern Avenue"
DESCRIPTION:Please visit Riverbend Live! for more details.
URL:https://roseburgchamber.com/event/riverbend-live-southern-avenue/
LOCATION:Riverbend Park\, Winston OR\, 223 Thompson Avenue\, Winston\, OR\, 97496\, United States
CATEGORIES:Visitor Events
END:VEVENT
BEGIN:VEVENT
DTSTART;TZID=America/Los_Angeles:20250708T190000
DTEND;TZID=America/Los_Angeles:20250708T220000
DTSTAMP:20260424T084133
CREATED:20250515T174119Z
LAST-MODIFIED:20250515T174119Z
UID:17101-1752001200-1752012000@roseburgchamber.com
SUMMARY:Music on the Half Shell
DESCRIPTION:ZZ WARD – For more details visit Music on the Half Shell.
URL:https://roseburgchamber.com/event/music-on-the-half-shell-27/
LOCATION:The Nichols Bandshell at Stewart Park\, 1002 NW Stewart Park Drive\, Roseburg\, OR\, United States
CATEGORIES:Visitor Events
END:VEVENT
BEGIN:VEVENT
DTSTART;TZID=America/Los_Angeles:20250709T100000
DTEND;TZID=America/Los_Angeles:20250709T220000
DTSTAMP:20260424T084133
CREATED:20250327T170737Z
LAST-MODIFIED:20250327T170737Z
UID:16619-1752055200-1752098400@roseburgchamber.com
SUMMARY:Graffiti Weekend 2025
DESCRIPTION:Graffiti Weekend in Roseburg\, and throughout Douglas County\, is July 9 through 13\, 2025.  For details about daily events and activities\, please visit Graffiti Weekend.
URL:https://roseburgchamber.com/event/graffiti-weekend-2025/2025-07-09/
LOCATION:OR
CATEGORIES:Visitor Events
END:VEVENT
BEGIN:VEVENT
DTSTART;TZID=America/Los_Angeles:20250710T100000
DTEND;TZID=America/Los_Angeles:20250710T220000
DTSTAMP:20260424T084133
CREATED:20250327T170737Z
LAST-MODIFIED:20250327T170737Z
UID:16620-1752141600-1752184800@roseburgchamber.com
SUMMARY:Graffiti Weekend 2025
DESCRIPTION:Graffiti Weekend in Roseburg\, and throughout Douglas County\, is July 9 through 13\, 2025.  For details about daily events and activities\, please visit Graffiti Weekend.
URL:https://roseburgchamber.com/event/graffiti-weekend-2025/2025-07-10/
LOCATION:OR
CATEGORIES:Visitor Events
END:VEVENT
BEGIN:VEVENT
DTSTART;TZID=America/Los_Angeles:20250710T190000
DTEND;TZID=America/Los_Angeles:20250710T223000
DTSTAMP:20260424T084133
CREATED:20250502T184808Z
LAST-MODIFIED:20250502T184808Z
UID:16931-1752174000-1752186600@roseburgchamber.com
SUMMARY:Music Off Central -- "Philip Sayce"
DESCRIPTION:Please visit Music Off Central for details.
URL:https://roseburgchamber.com/event/music-off-central-philip-sayce/
LOCATION:Central Park\, Sutherlin OR 97479\, 301-399 E Dean Street\, Sutherlin\, OR\, 97479\, United States
CATEGORIES:Visitor Events
END:VEVENT
BEGIN:VEVENT
DTSTART;TZID=America/Los_Angeles:20250711T083000
DTEND;TZID=America/Los_Angeles:20250711T220000
DTSTAMP:20260424T084133
CREATED:20250327T170737Z
LAST-MODIFIED:20250327T170737Z
UID:16621-1752222600-1752271200@roseburgchamber.com
SUMMARY:Graffiti Weekend 2025
DESCRIPTION:Graffiti Weekend in Roseburg\, and throughout Douglas County\, is July 9 through 13\, 2025.  For details about daily events and activities\, please visit Graffiti Weekend.
URL:https://roseburgchamber.com/event/graffiti-weekend-2025/2025-07-11/
LOCATION:OR
CATEGORIES:Visitor Events
END:VEVENT
BEGIN:VEVENT
DTSTART;TZID=America/Los_Angeles:20250711T190000
DTEND;TZID=America/Los_Angeles:20250711T213000
DTSTAMP:20260424T084133
CREATED:20250502T182347Z
LAST-MODIFIED:20250502T182347Z
UID:16918-1752260400-1752269400@roseburgchamber.com
SUMMARY:Riverbend Live! -- "Eilen Jewell"
DESCRIPTION:Please visit Riverbend Live! for more details.
URL:https://roseburgchamber.com/event/riverbend-live-eilen-jewell/
LOCATION:Riverbend Park\, Winston OR\, 223 Thompson Avenue\, Winston\, OR\, 97496\, United States
CATEGORIES:Visitor Events
END:VEVENT
BEGIN:VEVENT
DTSTART;TZID=America/Los_Angeles:20250712T080000
DTEND;TZID=America/Los_Angeles:20250712T213000
DTSTAMP:20260424T084133
CREATED:20250327T170737Z
LAST-MODIFIED:20250327T170737Z
UID:16622-1752307200-1752355800@roseburgchamber.com
SUMMARY:Graffiti Weekend 2025
DESCRIPTION:Graffiti Weekend in Roseburg\, and throughout Douglas County\, is July 9 through 13\, 2025.  For details about daily events and activities\, please visit Graffiti Weekend.
URL:https://roseburgchamber.com/event/graffiti-weekend-2025/2025-07-12/
LOCATION:OR
CATEGORIES:Visitor Events
END:VEVENT
BEGIN:VEVENT
DTSTART;TZID=America/Los_Angeles:20250713T090000
DTEND;TZID=America/Los_Angeles:20250713T160000
DTSTAMP:20260424T084133
CREATED:20250327T170737Z
LAST-MODIFIED:20250327T170737Z
UID:16623-1752397200-1752422400@roseburgchamber.com
SUMMARY:Graffiti Weekend 2025
DESCRIPTION:Graffiti Weekend in Roseburg\, and throughout Douglas County\, is July 9 through 13\, 2025.  For details about daily events and activities\, please visit Graffiti Weekend.
URL:https://roseburgchamber.com/event/graffiti-weekend-2025/2025-07-13/
LOCATION:OR
CATEGORIES:Visitor Events
END:VEVENT
BEGIN:VEVENT
DTSTART;TZID=America/Los_Angeles:20250715T190000
DTEND;TZID=America/Los_Angeles:20250715T220000
DTSTAMP:20260424T084133
CREATED:20250515T174255Z
LAST-MODIFIED:20250515T174255Z
UID:17103-1752606000-1752616800@roseburgchamber.com
SUMMARY:Music on the Half Shell
DESCRIPTION:SETH MULDER & MIDNIGHT RUN – For more details visit Music on the Half Shell.
URL:https://roseburgchamber.com/event/music-on-the-half-shell-28/
LOCATION:The Nichols Bandshell at Stewart Park\, 1002 NW Stewart Park Drive\, Roseburg\, OR\, United States
CATEGORIES:Visitor Events
END:VEVENT
BEGIN:VEVENT
DTSTART;TZID=America/Los_Angeles:20250717T190000
DTEND;TZID=America/Los_Angeles:20250717T223000
DTSTAMP:20260424T084133
CREATED:20250502T185059Z
LAST-MODIFIED:20250502T185059Z
UID:16933-1752778800-1752791400@roseburgchamber.com
SUMMARY:Music Off Central -- "Yachty by Nature"
DESCRIPTION:Please visit Music Off Central for details.
URL:https://roseburgchamber.com/event/music-off-central-yachty-by-nature/
LOCATION:Central Park\, Sutherlin OR 97479\, 301-399 E Dean Street\, Sutherlin\, OR\, 97479\, United States
CATEGORIES:Visitor Events
END:VEVENT
BEGIN:VEVENT
DTSTART;TZID=America/Los_Angeles:20250718T180000
DTEND;TZID=America/Los_Angeles:20250718T230000
DTSTAMP:20260424T084133
CREATED:20250502T192213Z
LAST-MODIFIED:20250502T192213Z
UID:16957-1752861600-1752879600@roseburgchamber.com
SUMMARY:Dirt Track Races
DESCRIPTION:Gates open at 4:00 p.m. Please visit Douglas County Fairgrounds for more details.
URL:https://roseburgchamber.com/event/dirt-track-races-6/2025-07-18/
LOCATION:Douglas County Fairgrounds
CATEGORIES:Visitor Events
END:VEVENT
BEGIN:VEVENT
DTSTART;TZID=America/Los_Angeles:20250718T190000
DTEND;TZID=America/Los_Angeles:20250718T213000
DTSTAMP:20260424T084133
CREATED:20250502T182525Z
LAST-MODIFIED:20250502T182525Z
UID:16920-1752865200-1752874200@roseburgchamber.com
SUMMARY:Riverbend Live! -- Cowboy Poetry & Western Music with Andy Nelson & Brenn Hill
DESCRIPTION:Please visit Riverbend Live! for more details.
URL:https://roseburgchamber.com/event/riverbend-live-cowboy-poetry-western-music-with-andy-nelson-brenn-hill/
LOCATION:Riverbend Park\, Winston OR\, 223 Thompson Avenue\, Winston\, OR\, 97496\, United States
CATEGORIES:Visitor Events
END:VEVENT
BEGIN:VEVENT
DTSTART;TZID=America/Los_Angeles:20250721T180000
DTEND;TZID=America/Los_Angeles:20250721T230000
DTSTAMP:20260424T084133
CREATED:20250502T192213Z
LAST-MODIFIED:20250502T192213Z
UID:16958-1753120800-1753138800@roseburgchamber.com
SUMMARY:Dirt Track Races
DESCRIPTION:Gates open at 4:00 p.m. Please visit Douglas County Fairgrounds for more details.
URL:https://roseburgchamber.com/event/dirt-track-races-6/2025-07-21/
LOCATION:Douglas County Fairgrounds
CATEGORIES:Visitor Events
END:VEVENT
BEGIN:VEVENT
DTSTART;TZID=America/Los_Angeles:20250722T190000
DTEND;TZID=America/Los_Angeles:20250722T220000
DTSTAMP:20260424T084133
CREATED:20250515T174425Z
LAST-MODIFIED:20250515T174425Z
UID:17105-1753210800-1753221600@roseburgchamber.com
SUMMARY:Music on the Half Shell
DESCRIPTION:MATT SCHOFIELD – For more details visit Music on the Half Shell.
URL:https://roseburgchamber.com/event/music-on-the-half-shell-29/
LOCATION:The Nichols Bandshell at Stewart Park\, 1002 NW Stewart Park Drive\, Roseburg\, OR\, United States
CATEGORIES:Visitor Events
END:VEVENT
BEGIN:VEVENT
DTSTART;TZID=America/Los_Angeles:20250724T190000
DTEND;TZID=America/Los_Angeles:20250724T223000
DTSTAMP:20260424T084133
CREATED:20250502T185230Z
LAST-MODIFIED:20250502T185303Z
UID:16935-1753383600-1753396200@roseburgchamber.com
SUMMARY:Music Off Central -- "The Heart of Rock and Roll"
DESCRIPTION:Please visit Music Off Central for details.
URL:https://roseburgchamber.com/event/music-off-central-the-heart-of-rock-roll/
LOCATION:Central Park\, Sutherlin OR 97479\, 301-399 E Dean Street\, Sutherlin\, OR\, 97479\, United States
CATEGORIES:Visitor Events
END:VEVENT
BEGIN:VEVENT
DTSTART;TZID=America/Los_Angeles:20250725T180000
DTEND;TZID=America/Los_Angeles:20250725T230000
DTSTAMP:20260424T084133
CREATED:20250502T192213Z
LAST-MODIFIED:20250502T192213Z
UID:16960-1753466400-1753484400@roseburgchamber.com
SUMMARY:Dirt Track Races
DESCRIPTION:Gates open at 4:00 p.m. Please visit Douglas County Fairgrounds for more details.
URL:https://roseburgchamber.com/event/dirt-track-races-6/2025-07-25/
LOCATION:Douglas County Fairgrounds
CATEGORIES:Visitor Events
END:VEVENT
BEGIN:VEVENT
DTSTART;TZID=America/Los_Angeles:20250725T190000
DTEND;TZID=America/Los_Angeles:20250725T213000
DTSTAMP:20260424T084133
CREATED:20250502T182855Z
LAST-MODIFIED:20250502T182855Z
UID:16922-1753470000-1753479000@roseburgchamber.com
SUMMARY:Riverbend Live! -- Youth Theater presenting "Seussical the Musical"
DESCRIPTION:Please visit Riverbend Live! for more details.
URL:https://roseburgchamber.com/event/riverbend-live-youth-theater-presenting-seussical-the-musical/2025-07-25/
LOCATION:Riverbend Park\, Winston OR\, 223 Thompson Avenue\, Winston\, OR\, 97496\, United States
CATEGORIES:Visitor Events
END:VEVENT
BEGIN:VEVENT
DTSTART;TZID=America/Los_Angeles:20250726T190000
DTEND;TZID=America/Los_Angeles:20250726T213000
DTSTAMP:20260424T084133
CREATED:20250502T182855Z
LAST-MODIFIED:20250502T182855Z
UID:16923-1753556400-1753565400@roseburgchamber.com
SUMMARY:Riverbend Live! -- Youth Theater presenting "Seussical the Musical"
DESCRIPTION:Please visit Riverbend Live! for more details.
URL:https://roseburgchamber.com/event/riverbend-live-youth-theater-presenting-seussical-the-musical/2025-07-26/
LOCATION:Riverbend Park\, Winston OR\, 223 Thompson Avenue\, Winston\, OR\, 97496\, United States
CATEGORIES:Visitor Events
END:VEVENT
BEGIN:VEVENT
DTSTART;TZID=America/Los_Angeles:20250729T190000
DTEND;TZID=America/Los_Angeles:20250729T220000
DTSTAMP:20260424T084133
CREATED:20250515T174612Z
LAST-MODIFIED:20250515T174612Z
UID:17107-1753815600-1753826400@roseburgchamber.com
SUMMARY:Music on the Half Shell
DESCRIPTION:BREABACH – For more details visit Music on the Half Shell.
URL:https://roseburgchamber.com/event/music-on-the-half-shell-30/
LOCATION:The Nichols Bandshell at Stewart Park\, 1002 NW Stewart Park Drive\, Roseburg\, OR\, United States
CATEGORIES:Visitor Events
END:VEVENT
BEGIN:VEVENT
DTSTART;TZID=America/Los_Angeles:20250731T190000
DTEND;TZID=America/Los_Angeles:20250731T223000
DTSTAMP:20260424T084133
CREATED:20250502T185434Z
LAST-MODIFIED:20250502T185434Z
UID:16939-1753988400-1754001000@roseburgchamber.com
SUMMARY:Music Off Central -- "Kashus Culpepper"
DESCRIPTION:Please visit Music Off Central for details.
URL:https://roseburgchamber.com/event/music-off-central-kashus-culpepper/
LOCATION:Central Park\, Sutherlin OR 97479\, 301-399 E Dean Street\, Sutherlin\, OR\, 97479\, United States
CATEGORIES:Visitor Events
END:VEVENT
END:VCALENDAR