BEGIN:VCALENDAR
VERSION:2.0
PRODID:-//Roseburg Area Chamber - ECPv6.15.20//NONSGML v1.0//EN
CALSCALE:GREGORIAN
METHOD:PUBLISH
X-ORIGINAL-URL:https://roseburgchamber.com
X-WR-CALDESC:Events for Roseburg Area Chamber
REFRESH-INTERVAL;VALUE=DURATION:PT1H
X-Robots-Tag:noindex
X-PUBLISHED-TTL:PT1H
BEGIN:VTIMEZONE
TZID:America/Los_Angeles
BEGIN:DAYLIGHT
TZOFFSETFROM:-0800
TZOFFSETTO:-0700
TZNAME:PDT
DTSTART:20240310T100000
END:DAYLIGHT
BEGIN:STANDARD
TZOFFSETFROM:-0700
TZOFFSETTO:-0800
TZNAME:PST
DTSTART:20241103T090000
END:STANDARD
BEGIN:DAYLIGHT
TZOFFSETFROM:-0800
TZOFFSETTO:-0700
TZNAME:PDT
DTSTART:20250309T100000
END:DAYLIGHT
BEGIN:STANDARD
TZOFFSETFROM:-0700
TZOFFSETTO:-0800
TZNAME:PST
DTSTART:20251102T090000
END:STANDARD
BEGIN:DAYLIGHT
TZOFFSETFROM:-0800
TZOFFSETTO:-0700
TZNAME:PDT
DTSTART:20260308T100000
END:DAYLIGHT
BEGIN:STANDARD
TZOFFSETFROM:-0700
TZOFFSETTO:-0800
TZNAME:PST
DTSTART:20261101T090000
END:STANDARD
END:VTIMEZONE
BEGIN:VEVENT
DTSTART;TZID=America/Los_Angeles:20250801T190000
DTEND;TZID=America/Los_Angeles:20250801T213000
DTSTAMP:20260424T101106
CREATED:20250502T183012Z
LAST-MODIFIED:20250502T183417Z
UID:16925-1754074800-1754083800@roseburgchamber.com
SUMMARY:Riverbend Live! -- "Good Co"
DESCRIPTION:Please visit Riverbend Live! for more details.
URL:https://roseburgchamber.com/event/riverbend-live-good-co/
LOCATION:Riverbend Park\, Winston OR\, 223 Thompson Avenue\, Winston\, OR\, 97496\, United States
CATEGORIES:Visitor Events
END:VEVENT
BEGIN:VEVENT
DTSTART;TZID=America/Los_Angeles:20250805T190000
DTEND;TZID=America/Los_Angeles:20250805T220000
DTSTAMP:20260424T101106
CREATED:20250515T174809Z
LAST-MODIFIED:20250515T174809Z
UID:17109-1754420400-1754431200@roseburgchamber.com
SUMMARY:Music on the Half Shell
DESCRIPTION:JIMETTA ROSE AND THE VOICES OF CREATION – For more details visit Music on the Half Shell.
URL:https://roseburgchamber.com/event/music-on-the-half-shell-31/
LOCATION:The Nichols Bandshell at Stewart Park\, 1002 NW Stewart Park Drive\, Roseburg\, OR\, United States
CATEGORIES:Visitor Events
END:VEVENT
BEGIN:VEVENT
DTSTART;TZID=America/Los_Angeles:20250806T080000
DTEND;TZID=America/Los_Angeles:20250806T230000
DTSTAMP:20260424T101106
CREATED:20250115T221057Z
LAST-MODIFIED:20250115T221057Z
UID:15948-1754467200-1754521200@roseburgchamber.com
SUMMARY:Douglas County Fair
DESCRIPTION:Fair Time is Fun Time!  The Douglas County Fair is August 6-9\, 2025.  For details about special events\, hours and tickets\, visit Douglas County Fair!
URL:https://roseburgchamber.com/event/douglas-county-fair-6/2025-08-06/
LOCATION:OR
CATEGORIES:Visitor Events
END:VEVENT
BEGIN:VEVENT
DTSTART;TZID=America/Los_Angeles:20250807T080000
DTEND;TZID=America/Los_Angeles:20250807T230000
DTSTAMP:20260424T101106
CREATED:20250115T221057Z
LAST-MODIFIED:20250115T221057Z
UID:15949-1754553600-1754607600@roseburgchamber.com
SUMMARY:Douglas County Fair
DESCRIPTION:Fair Time is Fun Time!  The Douglas County Fair is August 6-9\, 2025.  For details about special events\, hours and tickets\, visit Douglas County Fair!
URL:https://roseburgchamber.com/event/douglas-county-fair-6/2025-08-07/
LOCATION:OR
CATEGORIES:Visitor Events
END:VEVENT
BEGIN:VEVENT
DTSTART;TZID=America/Los_Angeles:20250807T190000
DTEND;TZID=America/Los_Angeles:20250807T223000
DTSTAMP:20260424T101106
CREATED:20250502T185605Z
LAST-MODIFIED:20250502T190105Z
UID:16941-1754593200-1754605800@roseburgchamber.com
SUMMARY:Music Off Central -- "Little Texas"
DESCRIPTION:Please visit Music Off Central for details.
URL:https://roseburgchamber.com/event/music-off-central-little-texas/
LOCATION:Central Park\, Sutherlin OR 97479\, 301-399 E Dean Street\, Sutherlin\, OR\, 97479\, United States
CATEGORIES:Visitor Events
END:VEVENT
BEGIN:VEVENT
DTSTART;TZID=America/Los_Angeles:20250808T080000
DTEND;TZID=America/Los_Angeles:20250808T230000
DTSTAMP:20260424T101106
CREATED:20250115T221057Z
LAST-MODIFIED:20250115T221057Z
UID:15950-1754640000-1754694000@roseburgchamber.com
SUMMARY:Douglas County Fair
DESCRIPTION:Fair Time is Fun Time!  The Douglas County Fair is August 6-9\, 2025.  For details about special events\, hours and tickets\, visit Douglas County Fair!
URL:https://roseburgchamber.com/event/douglas-county-fair-6/2025-08-08/
LOCATION:OR
CATEGORIES:Visitor Events
END:VEVENT
BEGIN:VEVENT
DTSTART;TZID=America/Los_Angeles:20250809T080000
DTEND;TZID=America/Los_Angeles:20250809T230000
DTSTAMP:20260424T101106
CREATED:20250115T221057Z
LAST-MODIFIED:20250115T221057Z
UID:15951-1754726400-1754780400@roseburgchamber.com
SUMMARY:Douglas County Fair
DESCRIPTION:Fair Time is Fun Time!  The Douglas County Fair is August 6-9\, 2025.  For details about special events\, hours and tickets\, visit Douglas County Fair!
URL:https://roseburgchamber.com/event/douglas-county-fair-6/2025-08-09/
LOCATION:OR
CATEGORIES:Visitor Events
END:VEVENT
BEGIN:VEVENT
DTSTART;TZID=America/Los_Angeles:20250812T190000
DTEND;TZID=America/Los_Angeles:20250812T220000
DTSTAMP:20260424T101106
CREATED:20250515T174953Z
LAST-MODIFIED:20250515T174953Z
UID:17111-1755025200-1755036000@roseburgchamber.com
SUMMARY:Music on the Half Shell
DESCRIPTION:SINKANE – For more details visit Music on the Half Shell.
URL:https://roseburgchamber.com/event/music-on-the-half-shell-32/
LOCATION:OR
CATEGORIES:Visitor Events
END:VEVENT
BEGIN:VEVENT
DTSTART;TZID=America/Los_Angeles:20250815T130000
DTEND;TZID=America/Los_Angeles:20250815T230000
DTSTAMP:20260424T101106
CREATED:20250502T191001Z
LAST-MODIFIED:20250512T212208Z
UID:16943-1755262800-1755298800@roseburgchamber.com
SUMMARY:Sutherlin Blackberry Festival
DESCRIPTION:Please visit Sutherlin Blackberry Festival for times and details about specific activities and events.
URL:https://roseburgchamber.com/event/sutherlin-blackberry-festival-6/2025-08-15/
LOCATION:Sutherlin\, Oregon\, Sutherlin\, OR\, 97479\, United States
CATEGORIES:Visitor Events
END:VEVENT
BEGIN:VEVENT
DTSTART;TZID=America/Los_Angeles:20250815T180000
DTEND;TZID=America/Los_Angeles:20250815T230000
DTSTAMP:20260424T101106
CREATED:20250502T192213Z
LAST-MODIFIED:20250502T192213Z
UID:16961-1755280800-1755298800@roseburgchamber.com
SUMMARY:Dirt Track Races
DESCRIPTION:Gates open at 4:00 p.m. Please visit Douglas County Fairgrounds for more details.
URL:https://roseburgchamber.com/event/dirt-track-races-6/2025-08-15/
LOCATION:Douglas County Fairgrounds
CATEGORIES:Visitor Events
END:VEVENT
BEGIN:VEVENT
DTSTART;TZID=America/Los_Angeles:20250816T100000
DTEND;TZID=America/Los_Angeles:20250816T210000
DTSTAMP:20260424T101106
CREATED:20250502T191001Z
LAST-MODIFIED:20250502T191001Z
UID:17077-1755338400-1755378000@roseburgchamber.com
SUMMARY:Sutherlin Blackberry Festival
DESCRIPTION:Please visit Sutherlin Blackberry Festival for times and details about specific activities and events.
URL:https://roseburgchamber.com/event/sutherlin-blackberry-festival-6/2025-08-16/
LOCATION:Sutherlin\, Oregon\, Sutherlin\, OR\, 97479\, United States
CATEGORIES:Visitor Events
END:VEVENT
BEGIN:VEVENT
DTSTART;TZID=America/Los_Angeles:20250816T180000
DTEND;TZID=America/Los_Angeles:20250816T230000
DTSTAMP:20260424T101106
CREATED:20250502T192213Z
LAST-MODIFIED:20250502T192213Z
UID:16962-1755367200-1755385200@roseburgchamber.com
SUMMARY:Dirt Track Races
DESCRIPTION:Gates open at 4:00 p.m. Please visit Douglas County Fairgrounds for more details.
URL:https://roseburgchamber.com/event/dirt-track-races-6/2025-08-16/
LOCATION:Douglas County Fairgrounds
CATEGORIES:Visitor Events
END:VEVENT
BEGIN:VEVENT
DTSTART;TZID=America/Los_Angeles:20250817T100000
DTEND;TZID=America/Los_Angeles:20250817T170000
DTSTAMP:20260424T101106
CREATED:20250502T191001Z
LAST-MODIFIED:20250502T191001Z
UID:17078-1755424800-1755450000@roseburgchamber.com
SUMMARY:Sutherlin Blackberry Festival
DESCRIPTION:Please visit Sutherlin Blackberry Festival for times and details about specific activities and events.
URL:https://roseburgchamber.com/event/sutherlin-blackberry-festival-6/2025-08-17/
LOCATION:Sutherlin\, Oregon\, Sutherlin\, OR\, 97479\, United States
CATEGORIES:Visitor Events
END:VEVENT
BEGIN:VEVENT
DTSTART;TZID=America/Los_Angeles:20250822T190000
DTEND;TZID=America/Los_Angeles:20250822T213000
DTSTAMP:20260424T101106
CREATED:20250821T164018Z
LAST-MODIFIED:20250821T164051Z
UID:17893-1755889200-1755898200@roseburgchamber.com
SUMMARY:Riverbend Live! -- "Chris O'Leary"
DESCRIPTION:BONUS CONCERT!  Please visit Riverbend Live! for more details.
URL:https://roseburgchamber.com/event/riverbend-live-chris-oleary/
LOCATION:Riverbend Park\, Winston OR\, 223 Thompson Avenue\, Winston\, OR\, 97496\, United States
CATEGORIES:Visitor Events
END:VEVENT
BEGIN:VEVENT
DTSTART;TZID=America/Los_Angeles:20250823T090000
DTEND;TZID=America/Los_Angeles:20250823T170000
DTSTAMP:20260424T101106
CREATED:20250807T173928Z
LAST-MODIFIED:20250807T173928Z
UID:17618-1755939600-1755968400@roseburgchamber.com
SUMMARY:Highland Games
DESCRIPTION:The Douglas County Celtic Society’s annual Highland Games will be August 24 and 25\, 2025.  For more information\, please visit Douglas County Celtic Society.
URL:https://roseburgchamber.com/event/highland-games/2025-08-23/
LOCATION:OR
CATEGORIES:Visitor Events
END:VEVENT
BEGIN:VEVENT
DTSTART;TZID=America/Los_Angeles:20250824T090000
DTEND;TZID=America/Los_Angeles:20250824T170000
DTSTAMP:20260424T101106
CREATED:20250807T173928Z
LAST-MODIFIED:20250807T173928Z
UID:17619-1756026000-1756054800@roseburgchamber.com
SUMMARY:Highland Games
DESCRIPTION:The Douglas County Celtic Society’s annual Highland Games will be August 24 and 25\, 2025.  For more information\, please visit Douglas County Celtic Society.
URL:https://roseburgchamber.com/event/highland-games/2025-08-24/
LOCATION:OR
CATEGORIES:Visitor Events
END:VEVENT
BEGIN:VEVENT
DTSTART;TZID=America/Los_Angeles:20250825T180000
DTEND;TZID=America/Los_Angeles:20250825T230000
DTSTAMP:20260424T101106
CREATED:20250502T192213Z
LAST-MODIFIED:20250502T192213Z
UID:16963-1756144800-1756162800@roseburgchamber.com
SUMMARY:Dirt Track Races
DESCRIPTION:Gates open at 4:00 p.m. Please visit Douglas County Fairgrounds for more details.
URL:https://roseburgchamber.com/event/dirt-track-races-6/2025-08-25/
LOCATION:Douglas County Fairgrounds
CATEGORIES:Visitor Events
END:VEVENT
BEGIN:VEVENT
DTSTART;TZID=America/Los_Angeles:20250830T100000
DTEND;TZID=America/Los_Angeles:20250831T160000
DTSTAMP:20260424T101106
CREATED:20250619T194426Z
LAST-MODIFIED:20250619T194426Z
UID:17363-1756548000-1756656000@roseburgchamber.com
SUMMARY:Fort Umpqua Days
DESCRIPTION:Fort Umpqua Days is a two-day celebration of local history held annually on Labor Day weekend in Elkton\, Oregon.  For more information about daily activities\, events and times\, please visit Elkton Community Education Center.
URL:https://roseburgchamber.com/event/fort-umpqua-days-4/
LOCATION:Elkton\, OR
CATEGORIES:Visitor Events
END:VEVENT
END:VCALENDAR