BEGIN:VCALENDAR
VERSION:2.0
PRODID:-//Roseburg Area Chamber - ECPv6.15.20//NONSGML v1.0//EN
CALSCALE:GREGORIAN
METHOD:PUBLISH
X-WR-CALNAME:Roseburg Area Chamber
X-ORIGINAL-URL:https://roseburgchamber.com
X-WR-CALDESC:Events for Roseburg Area Chamber
REFRESH-INTERVAL;VALUE=DURATION:PT1H
X-Robots-Tag:noindex
X-PUBLISHED-TTL:PT1H
BEGIN:VTIMEZONE
TZID:America/Los_Angeles
BEGIN:DAYLIGHT
TZOFFSETFROM:-0800
TZOFFSETTO:-0700
TZNAME:PDT
DTSTART:20200308T100000
END:DAYLIGHT
BEGIN:STANDARD
TZOFFSETFROM:-0700
TZOFFSETTO:-0800
TZNAME:PST
DTSTART:20201101T090000
END:STANDARD
BEGIN:DAYLIGHT
TZOFFSETFROM:-0800
TZOFFSETTO:-0700
TZNAME:PDT
DTSTART:20210314T100000
END:DAYLIGHT
BEGIN:STANDARD
TZOFFSETFROM:-0700
TZOFFSETTO:-0800
TZNAME:PST
DTSTART:20211107T090000
END:STANDARD
BEGIN:DAYLIGHT
TZOFFSETFROM:-0800
TZOFFSETTO:-0700
TZNAME:PDT
DTSTART:20220313T100000
END:DAYLIGHT
BEGIN:STANDARD
TZOFFSETFROM:-0700
TZOFFSETTO:-0800
TZNAME:PST
DTSTART:20221106T090000
END:STANDARD
END:VTIMEZONE
BEGIN:VEVENT
DTSTART;VALUE=DATE:20210820
DTEND;VALUE=DATE:20210823
DTSTAMP:20260421T120029
CREATED:20210614T173304Z
LAST-MODIFIED:20210614T205722Z
UID:9978-1629417600-1629676799@roseburgchamber.com
SUMMARY:Sutherlin Blackberry Festival
DESCRIPTION:For more information visit Sutherlin Blackberry Festival.
URL:https://roseburgchamber.com/event/sutherlin-blackberry-festival-2/
LOCATION:OR
CATEGORIES:Visitor Events
END:VEVENT
BEGIN:VEVENT
DTSTART;TZID=America/Los_Angeles:20210825T180000
DTEND;TZID=America/Los_Angeles:20210825T200000
DTSTAMP:20260421T120029
CREATED:20210719T220528Z
LAST-MODIFIED:20210719T220528Z
UID:10037-1629914400-1629921600@roseburgchamber.com
SUMMARY:Violins in the Vineyard @ Reustle Winery
DESCRIPTION:For Details Visit Reustle Prayer Rock Vineyards
URL:https://roseburgchamber.com/event/violins-in-the-vineyard-reustle-winery/
LOCATION:OR
CATEGORIES:Visitor Events
END:VEVENT
END:VCALENDAR