BEGIN:VCALENDAR
VERSION:2.0
PRODID:-//Roseburg Area Chamber - ECPv6.15.20//NONSGML v1.0//EN
CALSCALE:GREGORIAN
METHOD:PUBLISH
X-ORIGINAL-URL:https://roseburgchamber.com
X-WR-CALDESC:Events for Roseburg Area Chamber
REFRESH-INTERVAL;VALUE=DURATION:PT1H
X-Robots-Tag:noindex
X-PUBLISHED-TTL:PT1H
BEGIN:VTIMEZONE
TZID:America/Los_Angeles
BEGIN:DAYLIGHT
TZOFFSETFROM:-0800
TZOFFSETTO:-0700
TZNAME:PDT
DTSTART:20240310T100000
END:DAYLIGHT
BEGIN:STANDARD
TZOFFSETFROM:-0700
TZOFFSETTO:-0800
TZNAME:PST
DTSTART:20241103T090000
END:STANDARD
BEGIN:DAYLIGHT
TZOFFSETFROM:-0800
TZOFFSETTO:-0700
TZNAME:PDT
DTSTART:20250309T100000
END:DAYLIGHT
BEGIN:STANDARD
TZOFFSETFROM:-0700
TZOFFSETTO:-0800
TZNAME:PST
DTSTART:20251102T090000
END:STANDARD
BEGIN:DAYLIGHT
TZOFFSETFROM:-0800
TZOFFSETTO:-0700
TZNAME:PDT
DTSTART:20260308T100000
END:DAYLIGHT
BEGIN:STANDARD
TZOFFSETFROM:-0700
TZOFFSETTO:-0800
TZNAME:PST
DTSTART:20261101T090000
END:STANDARD
END:VTIMEZONE
BEGIN:VEVENT
DTSTART;TZID=America/Los_Angeles:20250713T090000
DTEND;TZID=America/Los_Angeles:20250713T160000
DTSTAMP:20260424T115125
CREATED:20250327T170737Z
LAST-MODIFIED:20250327T170737Z
UID:16623-1752397200-1752422400@roseburgchamber.com
SUMMARY:Graffiti Weekend 2025
DESCRIPTION:Graffiti Weekend in Roseburg\, and throughout Douglas County\, is July 9 through 13\, 2025.  For details about daily events and activities\, please visit Graffiti Weekend.
URL:https://roseburgchamber.com/event/graffiti-weekend-2025/2025-07-13/
LOCATION:OR
CATEGORIES:Visitor Events
END:VEVENT
BEGIN:VEVENT
DTSTART;TZID=America/Los_Angeles:20250715T190000
DTEND;TZID=America/Los_Angeles:20250715T220000
DTSTAMP:20260424T115125
CREATED:20250515T174255Z
LAST-MODIFIED:20250515T174255Z
UID:17103-1752606000-1752616800@roseburgchamber.com
SUMMARY:Music on the Half Shell
DESCRIPTION:SETH MULDER & MIDNIGHT RUN – For more details visit Music on the Half Shell.
URL:https://roseburgchamber.com/event/music-on-the-half-shell-28/
LOCATION:The Nichols Bandshell at Stewart Park\, 1002 NW Stewart Park Drive\, Roseburg\, OR\, United States
CATEGORIES:Visitor Events
END:VEVENT
BEGIN:VEVENT
DTSTART;TZID=America/Los_Angeles:20250717T190000
DTEND;TZID=America/Los_Angeles:20250717T223000
DTSTAMP:20260424T115125
CREATED:20250502T185059Z
LAST-MODIFIED:20250502T185059Z
UID:16933-1752778800-1752791400@roseburgchamber.com
SUMMARY:Music Off Central -- "Yachty by Nature"
DESCRIPTION:Please visit Music Off Central for details.
URL:https://roseburgchamber.com/event/music-off-central-yachty-by-nature/
LOCATION:Central Park\, Sutherlin OR 97479\, 301-399 E Dean Street\, Sutherlin\, OR\, 97479\, United States
CATEGORIES:Visitor Events
END:VEVENT
BEGIN:VEVENT
DTSTART;TZID=America/Los_Angeles:20250718T180000
DTEND;TZID=America/Los_Angeles:20250718T230000
DTSTAMP:20260424T115125
CREATED:20250502T192213Z
LAST-MODIFIED:20250502T192213Z
UID:16957-1752861600-1752879600@roseburgchamber.com
SUMMARY:Dirt Track Races
DESCRIPTION:Gates open at 4:00 p.m. Please visit Douglas County Fairgrounds for more details.
URL:https://roseburgchamber.com/event/dirt-track-races-6/2025-07-18/
LOCATION:Douglas County Fairgrounds
CATEGORIES:Visitor Events
END:VEVENT
BEGIN:VEVENT
DTSTART;TZID=America/Los_Angeles:20250718T190000
DTEND;TZID=America/Los_Angeles:20250718T213000
DTSTAMP:20260424T115125
CREATED:20250502T182525Z
LAST-MODIFIED:20250502T182525Z
UID:16920-1752865200-1752874200@roseburgchamber.com
SUMMARY:Riverbend Live! -- Cowboy Poetry & Western Music with Andy Nelson & Brenn Hill
DESCRIPTION:Please visit Riverbend Live! for more details.
URL:https://roseburgchamber.com/event/riverbend-live-cowboy-poetry-western-music-with-andy-nelson-brenn-hill/
LOCATION:Riverbend Park\, Winston OR\, 223 Thompson Avenue\, Winston\, OR\, 97496\, United States
CATEGORIES:Visitor Events
END:VEVENT
END:VCALENDAR