BEGIN:VCALENDAR
VERSION:2.0
PRODID:-//Roseburg Area Chamber - ECPv6.15.20//NONSGML v1.0//EN
CALSCALE:GREGORIAN
METHOD:PUBLISH
X-WR-CALNAME:Roseburg Area Chamber
X-ORIGINAL-URL:https://roseburgchamber.com
X-WR-CALDESC:Events for Roseburg Area Chamber
REFRESH-INTERVAL;VALUE=DURATION:PT1H
X-Robots-Tag:noindex
X-PUBLISHED-TTL:PT1H
BEGIN:VTIMEZONE
TZID:America/Los_Angeles
BEGIN:DAYLIGHT
TZOFFSETFROM:-0800
TZOFFSETTO:-0700
TZNAME:PDT
DTSTART:20240310T100000
END:DAYLIGHT
BEGIN:STANDARD
TZOFFSETFROM:-0700
TZOFFSETTO:-0800
TZNAME:PST
DTSTART:20241103T090000
END:STANDARD
BEGIN:DAYLIGHT
TZOFFSETFROM:-0800
TZOFFSETTO:-0700
TZNAME:PDT
DTSTART:20250309T100000
END:DAYLIGHT
BEGIN:STANDARD
TZOFFSETFROM:-0700
TZOFFSETTO:-0800
TZNAME:PST
DTSTART:20251102T090000
END:STANDARD
BEGIN:DAYLIGHT
TZOFFSETFROM:-0800
TZOFFSETTO:-0700
TZNAME:PDT
DTSTART:20260308T100000
END:DAYLIGHT
BEGIN:STANDARD
TZOFFSETFROM:-0700
TZOFFSETTO:-0800
TZNAME:PST
DTSTART:20261101T090000
END:STANDARD
END:VTIMEZONE
BEGIN:VEVENT
DTSTART;TZID=America/Los_Angeles:20250729T190000
DTEND;TZID=America/Los_Angeles:20250729T220000
DTSTAMP:20260424T144609
CREATED:20250515T174612Z
LAST-MODIFIED:20250515T174612Z
UID:17107-1753815600-1753826400@roseburgchamber.com
SUMMARY:Music on the Half Shell
DESCRIPTION:BREABACH – For more details visit Music on the Half Shell.
URL:https://roseburgchamber.com/event/music-on-the-half-shell-30/
LOCATION:The Nichols Bandshell at Stewart Park\, 1002 NW Stewart Park Drive\, Roseburg\, OR\, United States
CATEGORIES:Visitor Events
END:VEVENT
BEGIN:VEVENT
DTSTART;TZID=America/Los_Angeles:20250731T190000
DTEND;TZID=America/Los_Angeles:20250731T223000
DTSTAMP:20260424T144609
CREATED:20250502T185434Z
LAST-MODIFIED:20250502T185434Z
UID:16939-1753988400-1754001000@roseburgchamber.com
SUMMARY:Music Off Central -- "Kashus Culpepper"
DESCRIPTION:Please visit Music Off Central for details.
URL:https://roseburgchamber.com/event/music-off-central-kashus-culpepper/
LOCATION:Central Park\, Sutherlin OR 97479\, 301-399 E Dean Street\, Sutherlin\, OR\, 97479\, United States
CATEGORIES:Visitor Events
END:VEVENT
BEGIN:VEVENT
DTSTART;TZID=America/Los_Angeles:20250801T190000
DTEND;TZID=America/Los_Angeles:20250801T213000
DTSTAMP:20260424T144609
CREATED:20250502T183012Z
LAST-MODIFIED:20250502T183417Z
UID:16925-1754074800-1754083800@roseburgchamber.com
SUMMARY:Riverbend Live! -- "Good Co"
DESCRIPTION:Please visit Riverbend Live! for more details.
URL:https://roseburgchamber.com/event/riverbend-live-good-co/
LOCATION:Riverbend Park\, Winston OR\, 223 Thompson Avenue\, Winston\, OR\, 97496\, United States
CATEGORIES:Visitor Events
END:VEVENT
END:VCALENDAR