BEGIN:VCALENDAR
VERSION:2.0
PRODID:-//Roseburg Area Chamber - ECPv6.15.20//NONSGML v1.0//EN
CALSCALE:GREGORIAN
METHOD:PUBLISH
X-WR-CALNAME:Roseburg Area Chamber
X-ORIGINAL-URL:https://roseburgchamber.com
X-WR-CALDESC:Events for Roseburg Area Chamber
REFRESH-INTERVAL;VALUE=DURATION:PT1H
X-Robots-Tag:noindex
X-PUBLISHED-TTL:PT1H
BEGIN:VTIMEZONE
TZID:America/Los_Angeles
BEGIN:DAYLIGHT
TZOFFSETFROM:-0800
TZOFFSETTO:-0700
TZNAME:PDT
DTSTART:20190310T100000
END:DAYLIGHT
BEGIN:STANDARD
TZOFFSETFROM:-0700
TZOFFSETTO:-0800
TZNAME:PST
DTSTART:20191103T090000
END:STANDARD
BEGIN:DAYLIGHT
TZOFFSETFROM:-0800
TZOFFSETTO:-0700
TZNAME:PDT
DTSTART:20200308T100000
END:DAYLIGHT
BEGIN:STANDARD
TZOFFSETFROM:-0700
TZOFFSETTO:-0800
TZNAME:PST
DTSTART:20201101T090000
END:STANDARD
BEGIN:DAYLIGHT
TZOFFSETFROM:-0800
TZOFFSETTO:-0700
TZNAME:PDT
DTSTART:20210314T100000
END:DAYLIGHT
BEGIN:STANDARD
TZOFFSETFROM:-0700
TZOFFSETTO:-0800
TZNAME:PST
DTSTART:20211107T090000
END:STANDARD
END:VTIMEZONE
BEGIN:VEVENT
DTSTART;TZID=America/Los_Angeles:20200309T113000
DTEND;TZID=America/Los_Angeles:20200309T130000
DTSTAMP:20260421T053005
CREATED:20200304T210522Z
LAST-MODIFIED:20211013T174022Z
UID:8209-1583753400-1583758800@roseburgchamber.com
SUMMARY:Membership Meeting Luncheon "Hacked! OMG...What Now?"
DESCRIPTION:
URL:https://roseburgchamber.com/event/membership-meeting-luncheon-19/
CATEGORIES:Chamber Event
END:VEVENT
BEGIN:VEVENT
DTSTART;TZID=America/Los_Angeles:20200312T080000
DTEND;TZID=America/Los_Angeles:20200312T170000
DTSTAMP:20260421T053005
CREATED:20191204T185124Z
LAST-MODIFIED:20211013T173733Z
UID:7628-1584000000-1584032400@roseburgchamber.com
SUMMARY:Project Leadership Roseburg Workshop--Cancelled Due to COVID
DESCRIPTION:
URL:https://roseburgchamber.com/event/project-leadership-roseburg-15-2020-03-12/
CATEGORIES:Chamber Event
END:VEVENT
BEGIN:VEVENT
DTSTART;TZID=America/Los_Angeles:20200318T080000
DTEND;TZID=America/Los_Angeles:20200318T090000
DTSTAMP:20260421T053005
CREATED:20200304T211047Z
LAST-MODIFIED:20200318T181707Z
UID:8211-1584518400-1584522000@roseburgchamber.com
SUMMARY:Chamber 101--POSTPONED (TBD)
DESCRIPTION:Members of the Roseburg Area Chamber of Commerce have the opportunity to learn more about the long list of benefits and advertising options available to you. The chamber provides its new and existing members the opportunity to meet at Chamber 101 where they will get an in depth overview of the chamber and discuss it’s programs\, services\, goals and benefits. \nPerhaps your business has been a member of the chamber for years but is now under new ownership or management. Find out how to best utilize the tools your chamber provides and make new contacts to expand your social pool. On Wednesday\, March 18 from 8:00 to 9:00 a.m. members will meet in the chambers conference room. If you would like to attend please RSVP by Monday\, March 16 to 541-672-2648 ext. 23 or Email Us
URL:https://roseburgchamber.com/event/chamber-101-2/
CATEGORIES:Chamber Event
END:VEVENT
BEGIN:VEVENT
DTSTART;TZID=America/Los_Angeles:20200327T090000
DTEND;TZID=America/Los_Angeles:20200327T100000
DTSTAMP:20260421T053005
CREATED:20200318T181600Z
LAST-MODIFIED:20200318T181600Z
UID:8326-1585299600-1585303200@roseburgchamber.com
SUMMARY:9 @ 9--POSTPONED (TBD)
DESCRIPTION:
URL:https://roseburgchamber.com/event/9-9-postponed-tbd/
CATEGORIES:Chamber Event
END:VEVENT
END:VCALENDAR