BEGIN:VCALENDAR
VERSION:2.0
PRODID:-//Roseburg Area Chamber - ECPv6.15.20//NONSGML v1.0//EN
CALSCALE:GREGORIAN
METHOD:PUBLISH
X-ORIGINAL-URL:https://roseburgchamber.com
X-WR-CALDESC:Events for Roseburg Area Chamber
REFRESH-INTERVAL;VALUE=DURATION:PT1H
X-Robots-Tag:noindex
X-PUBLISHED-TTL:PT1H
BEGIN:VTIMEZONE
TZID:America/Los_Angeles
BEGIN:DAYLIGHT
TZOFFSETFROM:-0800
TZOFFSETTO:-0700
TZNAME:PDT
DTSTART:20200308T100000
END:DAYLIGHT
BEGIN:STANDARD
TZOFFSETFROM:-0700
TZOFFSETTO:-0800
TZNAME:PST
DTSTART:20201101T090000
END:STANDARD
BEGIN:DAYLIGHT
TZOFFSETFROM:-0800
TZOFFSETTO:-0700
TZNAME:PDT
DTSTART:20210314T100000
END:DAYLIGHT
BEGIN:STANDARD
TZOFFSETFROM:-0700
TZOFFSETTO:-0800
TZNAME:PST
DTSTART:20211107T090000
END:STANDARD
BEGIN:DAYLIGHT
TZOFFSETFROM:-0800
TZOFFSETTO:-0700
TZNAME:PDT
DTSTART:20220313T100000
END:DAYLIGHT
BEGIN:STANDARD
TZOFFSETFROM:-0700
TZOFFSETTO:-0800
TZNAME:PST
DTSTART:20221106T090000
END:STANDARD
END:VTIMEZONE
BEGIN:VEVENT
DTSTART;VALUE=DATE:20210705
DTEND;VALUE=DATE:20210706
DTSTAMP:20260421T115544
CREATED:20211013T175809Z
LAST-MODIFIED:20211013T175809Z
UID:10241-1625443200-1625529599@roseburgchamber.com
SUMMARY:Independence Day Holiday--Chamber CLOSED
DESCRIPTION:
URL:https://roseburgchamber.com/event/independence-day-holiday-chamber-closed/
CATEGORIES:Chamber Event
END:VEVENT
BEGIN:VEVENT
DTSTART;TZID=America/Los_Angeles:20210706T190000
DTEND;TZID=America/Los_Angeles:20210706T190000
DTSTAMP:20260421T115544
CREATED:20210614T172134Z
LAST-MODIFIED:20210614T204549Z
UID:9960-1625598000-1625598000@roseburgchamber.com
SUMMARY:Music on the Half Shell - MarchFourth
DESCRIPTION:For more information visit Music on the Half Shell.
URL:https://roseburgchamber.com/event/music-on-the-half-shell-marchfourth/
CATEGORIES:Visitor Events
END:VEVENT
BEGIN:VEVENT
DTSTART;VALUE=DATE:20210707
DTEND;VALUE=DATE:20210712
DTSTAMP:20260421T115544
CREATED:20210614T191524Z
LAST-MODIFIED:20210614T205554Z
UID:9989-1625616000-1626047999@roseburgchamber.com
SUMMARY:39th Annual Graffiti Weekend 2021
DESCRIPTION:For more information visit GraffitiWeekend.com.
URL:https://roseburgchamber.com/event/39th-annual-graffiti-weekend-2021-2/
CATEGORIES:Visitor Events
END:VEVENT
BEGIN:VEVENT
DTSTART;TZID=America/Los_Angeles:20210713T190000
DTEND;TZID=America/Los_Angeles:20210713T190000
DTSTAMP:20260421T115544
CREATED:20210614T172445Z
LAST-MODIFIED:20210614T204637Z
UID:9966-1626202800-1626202800@roseburgchamber.com
SUMMARY:Music on the Half Shell - Leroy Bell & His Only Friends
DESCRIPTION:For more information visit Music on the Half Shell.
URL:https://roseburgchamber.com/event/music-on-the-half-shell-leroy-bell-his-only-friends/
CATEGORIES:Visitor Events
END:VEVENT
BEGIN:VEVENT
DTSTART;TZID=America/Los_Angeles:20210720T190000
DTEND;TZID=America/Los_Angeles:20210720T190000
DTSTAMP:20260421T115544
CREATED:20210614T172232Z
LAST-MODIFIED:20210614T204733Z
UID:9962-1626807600-1626807600@roseburgchamber.com
SUMMARY:Music on the Half Shell - The Four Freshmen
DESCRIPTION:For more information visit Music on the Half Shell.
URL:https://roseburgchamber.com/event/music-on-the-half-shell-the-four-freshmen/
CATEGORIES:Visitor Events
END:VEVENT
BEGIN:VEVENT
DTSTART;TZID=America/Los_Angeles:20210725T133000
DTEND;TZID=America/Los_Angeles:20210725T163000
DTSTAMP:20260421T115544
CREATED:20210719T220808Z
LAST-MODIFIED:20210719T221125Z
UID:10039-1627219800-1627230600@roseburgchamber.com
SUMMARY:Sunday Music Performance by Coleen & Company at Cooper Ridge Vineyard
DESCRIPTION:For Details Visit Cooper Ridge Vineyard
URL:https://roseburgchamber.com/event/sunday-music-at-cooper-ridge-vineyard/
CATEGORIES:Visitor Events
END:VEVENT
BEGIN:VEVENT
DTSTART;TZID=America/Los_Angeles:20210727T190000
DTEND;TZID=America/Los_Angeles:20210727T190000
DTSTAMP:20260421T115544
CREATED:20210614T172619Z
LAST-MODIFIED:20210614T204826Z
UID:9968-1627412400-1627412400@roseburgchamber.com
SUMMARY:Music on the Half Shell - Curtis Salgado
DESCRIPTION:For more information visit Music on the Half Shell.
URL:https://roseburgchamber.com/event/music-on-the-half-shell-curtis-salgado/
CATEGORIES:Visitor Events
END:VEVENT
BEGIN:VEVENT
DTSTART;TZID=America/Los_Angeles:20210728T180000
DTEND;TZID=America/Los_Angeles:20210728T200000
DTSTAMP:20260421T115544
CREATED:20210719T220227Z
LAST-MODIFIED:20210719T220227Z
UID:10035-1627495200-1627502400@roseburgchamber.com
SUMMARY:Jazz in the Vineyard @ Reustle Winery
DESCRIPTION:For Details Visit Reustle Prayer Rock Vineyards
URL:https://roseburgchamber.com/event/jazz-in-the-vineyard-reustle-winery/
CATEGORIES:Visitor Events
END:VEVENT
END:VCALENDAR