BEGIN:VCALENDAR
VERSION:2.0
PRODID:-//Roseburg Area Chamber - ECPv6.15.20//NONSGML v1.0//EN
CALSCALE:GREGORIAN
METHOD:PUBLISH
X-ORIGINAL-URL:https://roseburgchamber.com
X-WR-CALDESC:Events for Roseburg Area Chamber
REFRESH-INTERVAL;VALUE=DURATION:PT1H
X-Robots-Tag:noindex
X-PUBLISHED-TTL:PT1H
BEGIN:VTIMEZONE
TZID:America/Los_Angeles
BEGIN:DAYLIGHT
TZOFFSETFROM:-0800
TZOFFSETTO:-0700
TZNAME:PDT
DTSTART:20210314T100000
END:DAYLIGHT
BEGIN:STANDARD
TZOFFSETFROM:-0700
TZOFFSETTO:-0800
TZNAME:PST
DTSTART:20211107T090000
END:STANDARD
BEGIN:DAYLIGHT
TZOFFSETFROM:-0800
TZOFFSETTO:-0700
TZNAME:PDT
DTSTART:20220313T100000
END:DAYLIGHT
BEGIN:STANDARD
TZOFFSETFROM:-0700
TZOFFSETTO:-0800
TZNAME:PST
DTSTART:20221106T090000
END:STANDARD
BEGIN:DAYLIGHT
TZOFFSETFROM:-0800
TZOFFSETTO:-0700
TZNAME:PDT
DTSTART:20230312T100000
END:DAYLIGHT
BEGIN:STANDARD
TZOFFSETFROM:-0700
TZOFFSETTO:-0800
TZNAME:PST
DTSTART:20231105T090000
END:STANDARD
END:VTIMEZONE
BEGIN:VEVENT
DTSTART;VALUE=DATE:20220512
DTEND;VALUE=DATE:20220513
DTSTAMP:20260421T042240
CREATED:20211012T182356Z
LAST-MODIFIED:20211012T182356Z
UID:10160-1652313600-1652399999@roseburgchamber.com
SUMMARY:2021-22 Project Leadership Workshop #7
DESCRIPTION:
URL:https://roseburgchamber.com/event/2021-22-project-leadership-workshop-7/
CATEGORIES:Chamber Event
END:VEVENT
BEGIN:VEVENT
DTSTART;TZID=America/Los_Angeles:20220516T114500
DTEND;TZID=America/Los_Angeles:20220516T130000
DTSTAMP:20260421T042240
CREATED:20210427T213432Z
LAST-MODIFIED:20220513T001029Z
UID:9873-1652701500-1652706000@roseburgchamber.com
SUMMARY:May Membership Meeting Luncheon--RESERVATIONS CLOSED
DESCRIPTION:“The Changing Landscape of Health Care” \nPresented by Aviva Health CEO KC Bolton\, Evergreen Family Medicine Medical Director & CEO Dr. Timothy Powell and Umpqua Health CEO Brent Eichman
URL:https://roseburgchamber.com/event/may-membership-meeting-luncheon/
LOCATION:Douglas County Fairgrounds Conference Hall\, 2110 SW Frear Street\, Roseburg\, OR\, 97471\, United States
CATEGORIES:Chamber Event
GEO:43.198582;-123.358602
X-APPLE-STRUCTURED-LOCATION;VALUE=URI;X-ADDRESS=Douglas County Fairgrounds Conference Hall 2110 SW Frear Street Roseburg OR 97471 United States;X-APPLE-RADIUS=500;X-TITLE=2110 SW Frear Street:geo:-123.358602,43.198582
END:VEVENT
BEGIN:VEVENT
DTSTART;VALUE=DATE:20220530
DTEND;VALUE=DATE:20220531
DTSTAMP:20260421T042240
CREATED:20211012T184025Z
LAST-MODIFIED:20211012T184025Z
UID:10179-1653868800-1653955199@roseburgchamber.com
SUMMARY:Memorial Day--Chamber CLOSED
DESCRIPTION:
URL:https://roseburgchamber.com/event/memorial-day-chamber-closed/
END:VEVENT
BEGIN:VEVENT
DTSTART;VALUE=DATE:20220530
DTEND;VALUE=DATE:20220531
DTSTAMP:20260421T042240
CREATED:20211013T180744Z
LAST-MODIFIED:20211013T180744Z
UID:10249-1653868800-1653955199@roseburgchamber.com
SUMMARY:Memorial Day--Chamber CLOSED
DESCRIPTION:
URL:https://roseburgchamber.com/event/memorial-day-chamber-closed-3/
CATEGORIES:Chamber Event
END:VEVENT
END:VCALENDAR