BEGIN:VCALENDAR
VERSION:2.0
PRODID:-//Roseburg Area Chamber - ECPv6.15.20//NONSGML v1.0//EN
CALSCALE:GREGORIAN
METHOD:PUBLISH
X-ORIGINAL-URL:https://roseburgchamber.com
X-WR-CALDESC:Events for Roseburg Area Chamber
REFRESH-INTERVAL;VALUE=DURATION:PT1H
X-Robots-Tag:noindex
X-PUBLISHED-TTL:PT1H
BEGIN:VTIMEZONE
TZID:America/Los_Angeles
BEGIN:DAYLIGHT
TZOFFSETFROM:-0800
TZOFFSETTO:-0700
TZNAME:PDT
DTSTART:20220313T100000
END:DAYLIGHT
BEGIN:STANDARD
TZOFFSETFROM:-0700
TZOFFSETTO:-0800
TZNAME:PST
DTSTART:20221106T090000
END:STANDARD
BEGIN:DAYLIGHT
TZOFFSETFROM:-0800
TZOFFSETTO:-0700
TZNAME:PDT
DTSTART:20230312T100000
END:DAYLIGHT
BEGIN:STANDARD
TZOFFSETFROM:-0700
TZOFFSETTO:-0800
TZNAME:PST
DTSTART:20231105T090000
END:STANDARD
BEGIN:DAYLIGHT
TZOFFSETFROM:-0800
TZOFFSETTO:-0700
TZNAME:PDT
DTSTART:20240310T100000
END:DAYLIGHT
BEGIN:STANDARD
TZOFFSETFROM:-0700
TZOFFSETTO:-0800
TZNAME:PST
DTSTART:20241103T090000
END:STANDARD
END:VTIMEZONE
BEGIN:VEVENT
DTSTART;VALUE=DATE:20230309
DTEND;VALUE=DATE:20230310
DTSTAMP:20260421T004827
CREATED:20211013T182044Z
LAST-MODIFIED:20211013T182044Z
UID:10267-1678320000-1678406399@roseburgchamber.com
SUMMARY:2022-23 Project Leadership Workshop #6
DESCRIPTION:
URL:https://roseburgchamber.com/event/2022-23-project-leadership-workshop-6/
CATEGORIES:Chamber Event
END:VEVENT
BEGIN:VEVENT
DTSTART;TZID=America/Los_Angeles:20230313T114500
DTEND;TZID=America/Los_Angeles:20230313T130000
DTSTAMP:20260421T004827
CREATED:20221207T175307Z
LAST-MODIFIED:20230311T014109Z
UID:11882-1678707900-1678712400@roseburgchamber.com
SUMMARY:Membership Meeting Lunch--RESERVATIONS CLOSED
DESCRIPTION:Get your tickets for the Roseburg Area Chamber’s March 13 2023 membership lunch where attendees will get to take a walk on the wild side.  Wildlife Safari executive director Dan Van Slyke will be on hand to talk about the highly successful cheetah breeding program\, animal encounters\, educational camps and so much more.  And\, of course\, there will be animals!  If you have a season pass\, you already have your seat at the table.   Chamber lunches are held at the Douglas County fairgrounds from 11:45 am to 1 pm.  The luncheon buffet opens at 11:45.  Advanced ticket purchase is required.  Online ticket sales only.  Ticket sales close Thursday\, March 9 at Noon.
URL:https://roseburgchamber.com/event/membership-meeting-lunch/
CATEGORIES:Chamber Event
END:VEVENT
BEGIN:VEVENT
DTSTART;TZID=America/Los_Angeles:20230323T174500
DTEND;TZID=America/Los_Angeles:20230323T200000
DTSTAMP:20260421T004827
CREATED:20221207T180046Z
LAST-MODIFIED:20230318T231821Z
UID:11896-1679593500-1679601600@roseburgchamber.com
SUMMARY:Annual Awards Dinner\, Meeting of the Membership & Celebration of Business--RESERVATIONS CLOSED
DESCRIPTION:The Roseburg Area Chamber of Commerce will host its annual awards dinner and meeting of the membership on March 23\, 2023.  Chamber leadership will share the organization’s activities for the past year and discuss future priorities.  Small\, medium and large businesses of the year will be honored and\, the evening’s highlight will be the announcement of our 2022 First Citizens.  Title sponsor for the chamber’s 2023 annual awards dinner is Cascade Community Credit Union!  Our corporate sponsors for the event are Lone Rock Resources and Umpqua Insurance Agency! \nPlease see the March/April issue of Business Perspectives and future “Chamber News” member emails for more details and information.  Tickets are on sale now.  The deadline to purchase tickets is March 17.  Members wishing to not purchase tickets online\, may submit payment accompanied by the awards dinner flyer\, by noon March 17.  All past RACC board chairs and past First Citizens are included in the RACC member ticket pricing.  We look forward to seeing our members on March 23! \nEvent is 5:45 to 8:00 pm:  Reception at 5:45 pm / Dinner at 6:30 pm / Program at 7:15 pm
URL:https://roseburgchamber.com/event/annual-meeting-of-the-membership-awards-event/
CATEGORIES:Chamber Event
END:VEVENT
END:VCALENDAR