BEGIN:VCALENDAR
VERSION:2.0
PRODID:-//Roseburg Area Chamber - ECPv6.15.20//NONSGML v1.0//EN
CALSCALE:GREGORIAN
METHOD:PUBLISH
X-WR-CALNAME:Roseburg Area Chamber
X-ORIGINAL-URL:https://roseburgchamber.com
X-WR-CALDESC:Events for Roseburg Area Chamber
REFRESH-INTERVAL;VALUE=DURATION:PT1H
X-Robots-Tag:noindex
X-PUBLISHED-TTL:PT1H
BEGIN:VTIMEZONE
TZID:America/Los_Angeles
BEGIN:DAYLIGHT
TZOFFSETFROM:-0800
TZOFFSETTO:-0700
TZNAME:PDT
DTSTART:20190310T100000
END:DAYLIGHT
BEGIN:STANDARD
TZOFFSETFROM:-0700
TZOFFSETTO:-0800
TZNAME:PST
DTSTART:20191103T090000
END:STANDARD
BEGIN:DAYLIGHT
TZOFFSETFROM:-0800
TZOFFSETTO:-0700
TZNAME:PDT
DTSTART:20200308T100000
END:DAYLIGHT
BEGIN:STANDARD
TZOFFSETFROM:-0700
TZOFFSETTO:-0800
TZNAME:PST
DTSTART:20201101T090000
END:STANDARD
BEGIN:DAYLIGHT
TZOFFSETFROM:-0800
TZOFFSETTO:-0700
TZNAME:PDT
DTSTART:20210314T100000
END:DAYLIGHT
BEGIN:STANDARD
TZOFFSETFROM:-0700
TZOFFSETTO:-0800
TZNAME:PST
DTSTART:20211107T090000
END:STANDARD
END:VTIMEZONE
BEGIN:VEVENT
DTSTART;VALUE=DATE:20201126
DTEND;VALUE=DATE:20201128
DTSTAMP:20260421T130012
CREATED:20211013T171540Z
LAST-MODIFIED:20211013T171540Z
UID:10201-1606348800-1606521599@roseburgchamber.com
SUMMARY:Thanksgiving Holiday--Chamber CLOSED
DESCRIPTION:
URL:https://roseburgchamber.com/event/thanksgiving-holiday-chamber-closed/
CATEGORIES:Chamber Event
END:VEVENT
BEGIN:VEVENT
DTSTART;VALUE=DATE:20201127
DTEND;VALUE=DATE:20201128
DTSTAMP:20260421T130012
CREATED:20211013T171628Z
LAST-MODIFIED:20211013T171628Z
UID:10203-1606435200-1606521599@roseburgchamber.com
SUMMARY:Black Friday--SHOP LOCAL!
DESCRIPTION:
URL:https://roseburgchamber.com/event/black-friday-shop-local/
CATEGORIES:Chamber Event
END:VEVENT
BEGIN:VEVENT
DTSTART;TZID=America/Los_Angeles:20201128T080000
DTEND;TZID=America/Los_Angeles:20201128T170000
DTSTAMP:20260421T130012
CREATED:20211013T171711Z
LAST-MODIFIED:20211013T171711Z
UID:10205-1606550400-1606582800@roseburgchamber.com
SUMMARY:Shop Small Saturday--SHOP LOCAL!
DESCRIPTION:
URL:https://roseburgchamber.com/event/shop-small-saturday-shop-local/
CATEGORIES:Chamber Event
END:VEVENT
END:VCALENDAR