BEGIN:VCALENDAR
VERSION:2.0
PRODID:-//Roseburg Area Chamber - ECPv6.15.20//NONSGML v1.0//EN
CALSCALE:GREGORIAN
METHOD:PUBLISH
X-ORIGINAL-URL:https://roseburgchamber.com
X-WR-CALDESC:Events for Roseburg Area Chamber
REFRESH-INTERVAL;VALUE=DURATION:PT1H
X-Robots-Tag:noindex
X-PUBLISHED-TTL:PT1H
BEGIN:VTIMEZONE
TZID:America/Los_Angeles
BEGIN:DAYLIGHT
TZOFFSETFROM:-0800
TZOFFSETTO:-0700
TZNAME:PDT
DTSTART:20210314T100000
END:DAYLIGHT
BEGIN:STANDARD
TZOFFSETFROM:-0700
TZOFFSETTO:-0800
TZNAME:PST
DTSTART:20211107T090000
END:STANDARD
BEGIN:DAYLIGHT
TZOFFSETFROM:-0800
TZOFFSETTO:-0700
TZNAME:PDT
DTSTART:20220313T100000
END:DAYLIGHT
BEGIN:STANDARD
TZOFFSETFROM:-0700
TZOFFSETTO:-0800
TZNAME:PST
DTSTART:20221106T090000
END:STANDARD
BEGIN:DAYLIGHT
TZOFFSETFROM:-0800
TZOFFSETTO:-0700
TZNAME:PDT
DTSTART:20230312T100000
END:DAYLIGHT
BEGIN:STANDARD
TZOFFSETFROM:-0700
TZOFFSETTO:-0800
TZNAME:PST
DTSTART:20231105T090000
END:STANDARD
END:VTIMEZONE
BEGIN:VEVENT
DTSTART;VALUE=DATE:20220530
DTEND;VALUE=DATE:20220531
DTSTAMP:20260421T065255
CREATED:20211012T184025Z
LAST-MODIFIED:20211012T184025Z
UID:10179-1653868800-1653955199@roseburgchamber.com
SUMMARY:Memorial Day--Chamber CLOSED
DESCRIPTION:
URL:https://roseburgchamber.com/event/memorial-day-chamber-closed/
END:VEVENT
BEGIN:VEVENT
DTSTART;VALUE=DATE:20220530
DTEND;VALUE=DATE:20220531
DTSTAMP:20260421T065255
CREATED:20211013T180744Z
LAST-MODIFIED:20211013T180744Z
UID:10249-1653868800-1653955199@roseburgchamber.com
SUMMARY:Memorial Day--Chamber CLOSED
DESCRIPTION:
URL:https://roseburgchamber.com/event/memorial-day-chamber-closed-3/
CATEGORIES:Chamber Event
END:VEVENT
BEGIN:VEVENT
DTSTART;TZID=America/Los_Angeles:20220603T193000
DTEND;TZID=America/Los_Angeles:20220603T230000
DTSTAMP:20260421T065255
CREATED:20220524T172433Z
LAST-MODIFIED:20220706T212401Z
UID:11188-1654284600-1654297200@roseburgchamber.com
SUMMARY:Movies in the Park - Sing 2 / POSTPONED DUE TO RAIN
DESCRIPTION:Visit City of Roseburg for more details.
URL:https://roseburgchamber.com/event/movies-in-the-park-sing-2/
CATEGORIES:Visitor Events
END:VEVENT
END:VCALENDAR