BEGIN:VCALENDAR
VERSION:2.0
PRODID:-//Roseburg Area Chamber - ECPv6.15.20//NONSGML v1.0//EN
CALSCALE:GREGORIAN
METHOD:PUBLISH
X-ORIGINAL-URL:https://roseburgchamber.com
X-WR-CALDESC:Events for Roseburg Area Chamber
REFRESH-INTERVAL;VALUE=DURATION:PT1H
X-Robots-Tag:noindex
X-PUBLISHED-TTL:PT1H
BEGIN:VTIMEZONE
TZID:America/Los_Angeles
BEGIN:DAYLIGHT
TZOFFSETFROM:-0800
TZOFFSETTO:-0700
TZNAME:PDT
DTSTART:20210314T100000
END:DAYLIGHT
BEGIN:STANDARD
TZOFFSETFROM:-0700
TZOFFSETTO:-0800
TZNAME:PST
DTSTART:20211107T090000
END:STANDARD
BEGIN:DAYLIGHT
TZOFFSETFROM:-0800
TZOFFSETTO:-0700
TZNAME:PDT
DTSTART:20220313T100000
END:DAYLIGHT
BEGIN:STANDARD
TZOFFSETFROM:-0700
TZOFFSETTO:-0800
TZNAME:PST
DTSTART:20221106T090000
END:STANDARD
BEGIN:DAYLIGHT
TZOFFSETFROM:-0800
TZOFFSETTO:-0700
TZNAME:PDT
DTSTART:20230312T100000
END:DAYLIGHT
BEGIN:STANDARD
TZOFFSETFROM:-0700
TZOFFSETTO:-0800
TZNAME:PST
DTSTART:20231105T090000
END:STANDARD
END:VTIMEZONE
BEGIN:VEVENT
DTSTART;VALUE=DATE:20220609
DTEND;VALUE=DATE:20220610
DTSTAMP:20260421T081448
CREATED:20211012T182444Z
LAST-MODIFIED:20211012T182444Z
UID:10162-1654732800-1654819199@roseburgchamber.com
SUMMARY:2021-22 Project Leadership Workshop #8
DESCRIPTION:
URL:https://roseburgchamber.com/event/2021-22-project-leadership-workshop-8/
CATEGORIES:Chamber Event
END:VEVENT
BEGIN:VEVENT
DTSTART;TZID=America/Los_Angeles:20220610T193000
DTEND;TZID=America/Los_Angeles:20220610T230000
DTSTAMP:20260421T081448
CREATED:20220524T172920Z
LAST-MODIFIED:20220706T212501Z
UID:11190-1654889400-1654902000@roseburgchamber.com
SUMMARY:Movies in the Park - Luca / POSTPONED DUE TO RAIN
DESCRIPTION:Visit City of Roseburg for details.
URL:https://roseburgchamber.com/event/movies-in-the-park-luca/
CATEGORIES:Visitor Events
END:VEVENT
END:VCALENDAR