BEGIN:VCALENDAR
VERSION:2.0
PRODID:-//Roseburg Area Chamber - ECPv6.15.20//NONSGML v1.0//EN
CALSCALE:GREGORIAN
METHOD:PUBLISH
X-WR-CALNAME:Roseburg Area Chamber
X-ORIGINAL-URL:https://roseburgchamber.com
X-WR-CALDESC:Events for Roseburg Area Chamber
REFRESH-INTERVAL;VALUE=DURATION:PT1H
X-Robots-Tag:noindex
X-PUBLISHED-TTL:PT1H
BEGIN:VTIMEZONE
TZID:America/Los_Angeles
BEGIN:DAYLIGHT
TZOFFSETFROM:-0800
TZOFFSETTO:-0700
TZNAME:PDT
DTSTART:20210314T100000
END:DAYLIGHT
BEGIN:STANDARD
TZOFFSETFROM:-0700
TZOFFSETTO:-0800
TZNAME:PST
DTSTART:20211107T090000
END:STANDARD
BEGIN:DAYLIGHT
TZOFFSETFROM:-0800
TZOFFSETTO:-0700
TZNAME:PDT
DTSTART:20220313T100000
END:DAYLIGHT
BEGIN:STANDARD
TZOFFSETFROM:-0700
TZOFFSETTO:-0800
TZNAME:PST
DTSTART:20221106T090000
END:STANDARD
BEGIN:DAYLIGHT
TZOFFSETFROM:-0800
TZOFFSETTO:-0700
TZNAME:PDT
DTSTART:20230312T100000
END:DAYLIGHT
BEGIN:STANDARD
TZOFFSETFROM:-0700
TZOFFSETTO:-0800
TZNAME:PST
DTSTART:20231105T090000
END:STANDARD
END:VTIMEZONE
BEGIN:VEVENT
DTSTART;TZID=America/Los_Angeles:20220620T114500
DTEND;TZID=America/Los_Angeles:20220620T130000
DTSTAMP:20260421T081249
CREATED:20211012T182652Z
LAST-MODIFIED:20220616T000933Z
UID:10164-1655725500-1655730000@roseburgchamber.com
SUMMARY:June Membership Meeting Luncheon--RESERVATIONS CLOSED
DESCRIPTION:The Roseburg Area Chamber’s June 20 membership meeting luncheon program will feature our annual “Timber & Wood Products Industry” update and 2021-22 Project Leadership graduation.  Roseburg Forest Products president and CEO\, Grady Mulbery will deliver this year’s timber  industry update.  The June 20 membership lunch is held at the Douglas County fairgrounds from 11:45 a.m. to 1:00 p.m. \nTickets are required to gain entry to the chamber event and advance ticket purchase is required.  Tickets are not sold at the door.  Tickets go on sale on May 25.  Ticket sales closed on Wednesday\, June 15 at 5:00 p.m.  The chamber’s June membership meeting is sponsored by Douglas Timber Operators.
URL:https://roseburgchamber.com/event/june-membership-meeting-luncheon-project-leadership-graduation/
CATEGORIES:Chamber Event
END:VEVENT
BEGIN:VEVENT
DTSTART;TZID=America/Los_Angeles:20220621T190000
DTEND;TZID=America/Los_Angeles:20220621T220000
DTSTAMP:20260421T081249
CREATED:20220524T174302Z
LAST-MODIFIED:20220524T174555Z
UID:11203-1655838000-1655848800@roseburgchamber.com
SUMMARY:Music on the Half Shell
DESCRIPTION:Pink Martini — Visit Music on the Half Shell for details.
URL:https://roseburgchamber.com/event/music-on-the-half-shell/
CATEGORIES:Visitor Events
END:VEVENT
BEGIN:VEVENT
DTSTART;TZID=America/Los_Angeles:20220624T120000
DTEND;TZID=America/Los_Angeles:20220624T210000
DTSTAMP:20260421T081249
CREATED:20220524T181129Z
LAST-MODIFIED:20220524T181354Z
UID:11225-1656072000-1656104400@roseburgchamber.com
SUMMARY:Summer Arts Festival--June 24-26
DESCRIPTION:Visit UVA Summer Arts Festival for event details.
URL:https://roseburgchamber.com/event/summer-arts-festival/
CATEGORIES:Visitor Events
END:VEVENT
BEGIN:VEVENT
DTSTART;TZID=America/Los_Angeles:20220624T193000
DTEND;TZID=America/Los_Angeles:20220624T230000
DTSTAMP:20260421T081249
CREATED:20220524T173251Z
LAST-MODIFIED:20220524T173251Z
UID:11194-1656099000-1656111600@roseburgchamber.com
SUMMARY:Movies in the Park - Soul
DESCRIPTION:Visit City of Roseburg for details.
URL:https://roseburgchamber.com/event/movies-in-the-park-soul/
CATEGORIES:Visitor Events
END:VEVENT
BEGIN:VEVENT
DTSTART;TZID=America/Los_Angeles:20220625T100000
DTEND;TZID=America/Los_Angeles:20220625T210000
DTSTAMP:20260421T081249
CREATED:20220524T181543Z
LAST-MODIFIED:20220524T181543Z
UID:11228-1656151200-1656190800@roseburgchamber.com
SUMMARY:Summer Arts Festival--June 24-26
DESCRIPTION:Visit UVA Summer Arts Festival for event details.
URL:https://roseburgchamber.com/event/summer-arts-festival-june-24-26/
CATEGORIES:Visitor Events
END:VEVENT
END:VCALENDAR