BEGIN:VCALENDAR
VERSION:2.0
PRODID:-//Roseburg Area Chamber - ECPv6.15.20//NONSGML v1.0//EN
CALSCALE:GREGORIAN
METHOD:PUBLISH
X-WR-CALNAME:Roseburg Area Chamber
X-ORIGINAL-URL:https://roseburgchamber.com
X-WR-CALDESC:Events for Roseburg Area Chamber
REFRESH-INTERVAL;VALUE=DURATION:PT1H
X-Robots-Tag:noindex
X-PUBLISHED-TTL:PT1H
BEGIN:VTIMEZONE
TZID:America/Los_Angeles
BEGIN:DAYLIGHT
TZOFFSETFROM:-0800
TZOFFSETTO:-0700
TZNAME:PDT
DTSTART:20210314T100000
END:DAYLIGHT
BEGIN:STANDARD
TZOFFSETFROM:-0700
TZOFFSETTO:-0800
TZNAME:PST
DTSTART:20211107T090000
END:STANDARD
BEGIN:DAYLIGHT
TZOFFSETFROM:-0800
TZOFFSETTO:-0700
TZNAME:PDT
DTSTART:20220313T100000
END:DAYLIGHT
BEGIN:STANDARD
TZOFFSETFROM:-0700
TZOFFSETTO:-0800
TZNAME:PST
DTSTART:20221106T090000
END:STANDARD
BEGIN:DAYLIGHT
TZOFFSETFROM:-0800
TZOFFSETTO:-0700
TZNAME:PDT
DTSTART:20230312T100000
END:DAYLIGHT
BEGIN:STANDARD
TZOFFSETFROM:-0700
TZOFFSETTO:-0800
TZNAME:PST
DTSTART:20231105T090000
END:STANDARD
END:VTIMEZONE
BEGIN:VEVENT
DTSTART;VALUE=DATE:20220704
DTEND;VALUE=DATE:20220705
DTSTAMP:20260421T052914
CREATED:20211012T184108Z
LAST-MODIFIED:20211012T184108Z
UID:10181-1656892800-1656979199@roseburgchamber.com
SUMMARY:Independence Day--Chamber CLOSED
DESCRIPTION:
URL:https://roseburgchamber.com/event/independence-day-chamber-closed/
CATEGORIES:Chamber Event
END:VEVENT
BEGIN:VEVENT
DTSTART;TZID=America/Los_Angeles:20220704T100000
DTEND;TZID=America/Los_Angeles:20220704T230000
DTSTAMP:20260421T052914
CREATED:20220628T235541Z
LAST-MODIFIED:20220628T235541Z
UID:11340-1656928800-1656975600@roseburgchamber.com
SUMMARY:Roseburg Hometown 4th of July Fireworks
DESCRIPTION:Monday\, July 4th at the Douglas County Fairgrounds.  Gates open at 10 a.m.  Fireworks begin at 10 p.m.   For details visit Roseburg Hometown Fireworks Facebook page.
URL:https://roseburgchamber.com/event/roseburg-hometown-4th-of-july-fireworks/
CATEGORIES:Visitor Events
END:VEVENT
BEGIN:VEVENT
DTSTART;TZID=America/Los_Angeles:20220705T190000
DTEND;TZID=America/Los_Angeles:20220705T220000
DTSTAMP:20260421T052914
CREATED:20220524T174800Z
LAST-MODIFIED:20220524T174800Z
UID:11209-1657047600-1657058400@roseburgchamber.com
SUMMARY:Music on the Half Shell
DESCRIPTION:Femi Kuti & Positive Force — Visit Music on the Half Shell for details.
URL:https://roseburgchamber.com/event/music-on-the-half-shell-3/
CATEGORIES:Visitor Events
END:VEVENT
BEGIN:VEVENT
DTSTART;TZID=America/Los_Angeles:20220706T000000
DTEND;TZID=America/Los_Angeles:20220710T000000
DTSTAMP:20260421T052914
CREATED:20220331T225701Z
LAST-MODIFIED:20220331T225701Z
UID:10959-1657065600-1657411200@roseburgchamber.com
SUMMARY:Graffiti Weekend 2022
DESCRIPTION:Graffiti “Weekend” 2022 is July 6 – 10.  Visit Graffiti Weekend 2022 Calendar for details about daily events.
URL:https://roseburgchamber.com/event/graffiti-weekend-2022/
CATEGORIES:Visitor Events
END:VEVENT
BEGIN:VEVENT
DTSTART;TZID=America/Los_Angeles:20220708T190000
DTEND;TZID=America/Los_Angeles:20220708T210000
DTSTAMP:20260421T052914
CREATED:20220616T221459Z
LAST-MODIFIED:20220616T221459Z
UID:11322-1657306800-1657314000@roseburgchamber.com
SUMMARY:Riverbend Live!
DESCRIPTION:LaRhonda Steele & The Steele Family Band.  Visit Riverbend Live! for details.
URL:https://roseburgchamber.com/event/riverbend-live-2/
CATEGORIES:Visitor Events
END:VEVENT
END:VCALENDAR