BEGIN:VCALENDAR
VERSION:2.0
PRODID:-//Roseburg Area Chamber - ECPv6.15.20//NONSGML v1.0//EN
CALSCALE:GREGORIAN
METHOD:PUBLISH
X-ORIGINAL-URL:https://roseburgchamber.com
X-WR-CALDESC:Events for Roseburg Area Chamber
REFRESH-INTERVAL;VALUE=DURATION:PT1H
X-Robots-Tag:noindex
X-PUBLISHED-TTL:PT1H
BEGIN:VTIMEZONE
TZID:America/Los_Angeles
BEGIN:DAYLIGHT
TZOFFSETFROM:-0800
TZOFFSETTO:-0700
TZNAME:PDT
DTSTART:20210314T100000
END:DAYLIGHT
BEGIN:STANDARD
TZOFFSETFROM:-0700
TZOFFSETTO:-0800
TZNAME:PST
DTSTART:20211107T090000
END:STANDARD
BEGIN:DAYLIGHT
TZOFFSETFROM:-0800
TZOFFSETTO:-0700
TZNAME:PDT
DTSTART:20220313T100000
END:DAYLIGHT
BEGIN:STANDARD
TZOFFSETFROM:-0700
TZOFFSETTO:-0800
TZNAME:PST
DTSTART:20221106T090000
END:STANDARD
BEGIN:DAYLIGHT
TZOFFSETFROM:-0800
TZOFFSETTO:-0700
TZNAME:PDT
DTSTART:20230312T100000
END:DAYLIGHT
BEGIN:STANDARD
TZOFFSETFROM:-0700
TZOFFSETTO:-0800
TZNAME:PST
DTSTART:20231105T090000
END:STANDARD
END:VTIMEZONE
BEGIN:VEVENT
DTSTART;TZID=America/Los_Angeles:20221011T170000
DTEND;TZID=America/Los_Angeles:20221011T190000
DTSTAMP:20260421T053141
CREATED:20210823T210757Z
LAST-MODIFIED:20220803T231240Z
UID:10104-1665507600-1665514800@roseburgchamber.com
SUMMARY:RACC Business After Hours @ Cascade Community Credit Union
DESCRIPTION:Join fellow RACC members for an after hour business networking event at Cascade Community Credit Union.
URL:https://roseburgchamber.com/event/racc-business-after-hours/
END:VEVENT
BEGIN:VEVENT
DTSTART;VALUE=DATE:20221013
DTEND;VALUE=DATE:20221014
DTSTAMP:20260421T053141
CREATED:20211013T181832Z
LAST-MODIFIED:20211013T181832Z
UID:10261-1665619200-1665705599@roseburgchamber.com
SUMMARY:2022-23 Project Leadership Workshop #2
DESCRIPTION:
URL:https://roseburgchamber.com/event/2022-23-project-leadership-workshop-2/
CATEGORIES:Chamber Event
END:VEVENT
END:VCALENDAR